BEGIN:VCALENDAR
VERSION:2.0
PRODID:-//Webb Deane Stevens Museum - ECPv6.15.20//NONSGML v1.0//EN
CALSCALE:GREGORIAN
METHOD:PUBLISH
X-WR-CALNAME:Webb Deane Stevens Museum
X-ORIGINAL-URL:https://wdsmuseum.org
X-WR-CALDESC:Events for Webb Deane Stevens Museum
REFRESH-INTERVAL;VALUE=DURATION:PT1H
X-Robots-Tag:noindex
X-PUBLISHED-TTL:PT1H
BEGIN:VTIMEZONE
TZID:America/New_York
BEGIN:DAYLIGHT
TZOFFSETFROM:-0500
TZOFFSETTO:-0400
TZNAME:EDT
DTSTART:20220313T070000
END:DAYLIGHT
BEGIN:STANDARD
TZOFFSETFROM:-0400
TZOFFSETTO:-0500
TZNAME:EST
DTSTART:20221106T060000
END:STANDARD
BEGIN:DAYLIGHT
TZOFFSETFROM:-0500
TZOFFSETTO:-0400
TZNAME:EDT
DTSTART:20230312T070000
END:DAYLIGHT
BEGIN:STANDARD
TZOFFSETFROM:-0400
TZOFFSETTO:-0500
TZNAME:EST
DTSTART:20231105T060000
END:STANDARD
BEGIN:DAYLIGHT
TZOFFSETFROM:-0500
TZOFFSETTO:-0400
TZNAME:EDT
DTSTART:20240310T070000
END:DAYLIGHT
BEGIN:STANDARD
TZOFFSETFROM:-0400
TZOFFSETTO:-0500
TZNAME:EST
DTSTART:20241103T060000
END:STANDARD
END:VTIMEZONE
BEGIN:VEVENT
DTSTART;TZID=America/New_York:20231021T103000
DTEND;TZID=America/New_York:20231028T143000
DTSTAMP:20260423T180605
CREATED:20230808T182748Z
LAST-MODIFIED:20231020T151810Z
UID:10000033-1697884200-1698503400@wdsmuseum.org
SUMMARY:Witches & Tombstones Tour
DESCRIPTION:THIS EVENT IS SOLD OUT. THANK YOU FOR YOUR INTEREST! \nAn up close and creepy examination of all things funereal\, our popular Witches & Tombstones Tour returns on Saturday\, October 21\, and Saturday\, October 28. \nThe Witches & Tombstones Tour begins at The Isaac Stevens House with the wake of young Henry Stevens\, who died at the age of three. Guests will learn about 19th-century mourning practices\, how illnesses were treated\, and how the living dealt with fears of being buried alive. Next\, guests will visit the Wethersfield Ancient Burying Ground. See the graves and hear stories of those who met their end during Connecticut’s first mass murder and learn how gravestones warned the living of their own impending peril. The final stop on the Tour is The Buttolph-Williams House (c 1711)\, the setting for the award-winning children’s novel\, The Witch of Blackbird Pond by Elizabeth George Speare. Hear stories about the notorious Wethersfield Witch Trials\, which preceded the Salem Witch Trials by 30 years. The Buttolph-Williams House is a Connecticut Landmarks property. \nTour times: 10:30am\, 11:30am\, 12:30pm\, 1:30pm\, and 2:30pm. \n*Please note: The Witches & Tombstones Tour includes climbing stairs and walking on uneven ground. This tour is not recommended for youth under age 12.
URL:https://wdsmuseum.org/event/witches-tombstones-tour-october-21-and-28/
LOCATION:WDS Museum\, 211 Main Street\, Wethersfield\, CT\, 06109
CATEGORIES:Holiday Program
ATTACH;FMTTYPE=image/png:https://wdsmuseum.org/wp-content/uploads/2023/08/WT-website-wk3.png
ORGANIZER;CN="WDS Museum":MAILTO:info@wdsmuseum.org
END:VEVENT
END:VCALENDAR