BEGIN:VCALENDAR
VERSION:2.0
PRODID:-//Webb Deane Stevens Museum - ECPv6.15.20//NONSGML v1.0//EN
CALSCALE:GREGORIAN
METHOD:PUBLISH
X-ORIGINAL-URL:https://wdsmuseum.org
X-WR-CALDESC:Events for Webb Deane Stevens Museum
REFRESH-INTERVAL;VALUE=DURATION:PT1H
X-Robots-Tag:noindex
X-PUBLISHED-TTL:PT1H
BEGIN:VTIMEZONE
TZID:America/New_York
BEGIN:DAYLIGHT
TZOFFSETFROM:-0500
TZOFFSETTO:-0400
TZNAME:EDT
DTSTART:20250309T070000
END:DAYLIGHT
BEGIN:STANDARD
TZOFFSETFROM:-0400
TZOFFSETTO:-0500
TZNAME:EST
DTSTART:20251102T060000
END:STANDARD
BEGIN:DAYLIGHT
TZOFFSETFROM:-0500
TZOFFSETTO:-0400
TZNAME:EDT
DTSTART:20260308T070000
END:DAYLIGHT
BEGIN:STANDARD
TZOFFSETFROM:-0400
TZOFFSETTO:-0500
TZNAME:EST
DTSTART:20261101T060000
END:STANDARD
BEGIN:DAYLIGHT
TZOFFSETFROM:-0500
TZOFFSETTO:-0400
TZNAME:EDT
DTSTART:20270314T070000
END:DAYLIGHT
BEGIN:STANDARD
TZOFFSETFROM:-0400
TZOFFSETTO:-0500
TZNAME:EST
DTSTART:20271107T060000
END:STANDARD
END:VTIMEZONE
BEGIN:VEVENT
DTSTART;TZID=America/New_York:20260508T190000
DTEND;TZID=America/New_York:20260508T203000
DTSTAMP:20260423T061724
CREATED:20260211T195115Z
LAST-MODIFIED:20260319T010456Z
UID:10000106-1778266800-1778272200@wdsmuseum.org
SUMMARY:PERFORMANCE | American Contemporary Dances with The Hartford Dance Collective
DESCRIPTION:Purchase Tickets\n\n  \nJoin us in the intimate Webb barn for the Museum’s first commissioned dance performance! Experience dance in-the-round\, featuring new and established works by The Hartford Dance Collective. Rooted in themes of female empowerment\, the dances explore strength\, resilience\, and self-expression through bold physicality and nuanced storytelling. Inspired by America’s 250th anniversary\, the Collective enriches the story of our nation’s founding by amplifying women’s voices and experiences. Surrounded by history and audience alike\, the dancers invite viewers into a shared space where past and present converge—where the courage to claim one’s voice echoes the spirit of those who shaped a new nation within these very walls. \nAbout This Commission In commissioning this work\, the Museum celebrates both a milestone and a continuation: bringing contemporary artists into dialogue with a site where questions of identity\, purpose\, and collective future have always lived. \nPERFORMANCE | Friday\, May 8\, 7 PM \n\n5:30 PM | VIP Ticketholders Talkback with Hartford Dance Collective\n6:15 PM | Doors open\n6:15-7:00 PM | Cash bar available\, furnished by Vino Crudo\n7:00 PM | Performance in-the-round\n\nTICKETS | $18 / $25 / $30 / $45 \nStudents (16-22) | $18 \nMembers | $25 \nGeneral Admission | $30 \nInner Circle VIP | $45 \n\n\n\nPremiere seating: first two rows\nPre-performance talk-back with dancers and choreographers of Hartford Dance Collective\nEarly-admission\nReserved Parking\nAccess to one open rehearsal (April TBD)\n\n\n\nHartford Dance Collective | The Hartford Dance Collective bridges the gap between dance and community by curating unique and accessible performances led by female identifying choreographers and offering open adult movement classes that foster artistic expression\, connection\, and inclusivity. \nSince July 2017\, the Hartford Dance Collective has curated performances in unique settings\, featuring female choreographers from across the nation. We have shared dance at the Connecticut Convention Center\, the Wadsworth Atheneum Museum of Art\, Mortensen Riverfront Plaza\, ShapeShifter Lab\, Real Art Ways\, TheaterWorks Hartford\, Dunkin Park\, Parkville Market\, & multiple breweries around the Connecticut\, to name a few; and we aim to continue to share the art form with a wide range of demographics. Along with many small programs that we present throughout the year\, \nThe Hartford Dance Collective curates the annual Hartford Dance Festival in Elizabeth Park with 25 performing groups\, which is the largest free dance festival in Connecticut. Our studio space in Hartford\, Connecticut\, provides creatives with a home to hone in on their movement vocabulary and the opportunity for us to bring professional dancers to Hartford including dancers from Pilobolus\, David Dorfman Dance\, the Limon Company\, the Radio City Rockettes\, Doug Varone and Dancers\, the Merce Cunningham Trust\, and the Brooklynettes\, to name a few. We hold the belief that everyone can dance and everyone should. Our professional and inspiring studio hosts open adult movement classes for the community featuring the Collective’s Resident Artists and Guest Instructors. A perfect place for a dancer to train\, a former dancer to reignite their love for movement\, or a member of the community looking to practice dance movement as a form of exercise\, art\, or meditation. Movement allows us to escape\, which drives our commitment to curating experiences that allow for discovery and connection.
URL:https://wdsmuseum.org/event/americancontemporarydance/
LOCATION:WDS Museum\, 211 Main Street\, Wethersfield\, CT\, 06109
CATEGORIES:Performance,Members,Special Event,Dance,America 250
ATTACH;FMTTYPE=image/png:https://wdsmuseum.org/wp-content/uploads/2026/02/American-Contemporary-Dances_HDC_2026.png
END:VEVENT
BEGIN:VEVENT
DTSTART;TZID=America/New_York:20260509T100000
DTEND;TZID=America/New_York:20260509T110000
DTSTAMP:20260423T061724
CREATED:20250911T115552Z
LAST-MODIFIED:20260317T190701Z
UID:10000084-1778320800-1778324400@wdsmuseum.org
SUMMARY:CLASS | Saturday Morning Arts: Open-Level Dance Class with The Hartford Dance Collective
DESCRIPTION:Purchase Tickets\n  \nDance with us! Join us one Saturday a month at 10 am to awaken your creativity and get moving. Each month\, a choreographer from the Hartford Dance Collective will lead an open-level dance class designed to build curiosity\, strength\, range of motion and confidence in your own  movement. Classes include warm-ups\, exercises in mobility\, and dynamic choreography phrasework. If you’ve been dancing all your life\, are a former dancer\, or have never danced before\, YOU ARE WELCOME HERE! Move your body freely in a supportive community\, surrounded by art and our beautiful Colonial Revival Garden. \nDate: May 9 \nTickets: $20 \nThe Hartford Dance Collective | The Hartford Dance Collective aims to empower women to have a voice and an equal opportunity in dance by providing choreographic and leadership opportunities. By sharing professional contemporary dance with new audiences and providing performances in diverse locations\, they work to bridge the gap between the arts and the community. Their studio space at Parkville Sounds in Hartford\, CT\, provides creatives with a home to hone in on their movement vocabulary\, and they hold the belief that everyone can dance and everyone should. www.thedancecollective.org
URL:https://wdsmuseum.org/event/class-saturday-morning-arts-free-movement-dance-class-with-the-hartford-dance-collective-7/
LOCATION:WDS Museum\, 211 Main Street\, Wethersfield\, CT\, 06109
CATEGORIES:Performance,Workshop,Members,Special Event
ATTACH;FMTTYPE=image/png:https://wdsmuseum.org/wp-content/uploads/2025/09/Screenshot-2025-09-03-at-17-34-13-The-Hartford-Dance-Collective.png
END:VEVENT
BEGIN:VEVENT
DTSTART;TZID=America/New_York:20260509T140000
DTEND;TZID=America/New_York:20260509T153000
DTSTAMP:20260423T061724
CREATED:20260212T013758Z
LAST-MODIFIED:20260319T011032Z
UID:10000107-1778335200-1778340600@wdsmuseum.org
SUMMARY:PERFORMANCE | American Contemporary Dances with The Hartford Dance Collective
DESCRIPTION:Purchase Tickets\n  \n\nJoin us in the intimate Webb barn for the Museum’s first commissioned dance performance! Experience dance in-the-round\, featuring new and established works by The Hartford Dance Collective. Rooted in themes of female empowerment\, the dances explore strength\, resilience\, and self-expression through bold physicality and nuanced storytelling. Inspired by America’s 250th anniversary\, the Collective enriches the story of our nation’s founding by amplifying women’s voices and experiences. Surrounded by history and audience alike\, the dancers invite viewers into a shared space where past and present converge—where the courage to claim one’s voice echoes the spirit of those who shaped a new nation within these very walls. \nAbout This Commission In commissioning this work\, the Museum celebrates both a milestone and a continuation: bringing contemporary artists into dialogue with a site where questions of identity\, purpose\, and collective future have always lived. \nPERFORMANCE | Saturday\, May 9\, 2 PM \n\n12:30 PM | VIP ticket holders talkback with Hartford Dance Collective\n1:15 PM | Doors open\n1:15-2:00 PM | Cash Bar\, furnished by Vino Crudo\n2:00 PM | Performance in-the-round\n\nTICKETS | $18 / $25 / $30 / $45 \nStudents (16-22) | $18 \nMembers | $25 \nGeneral Admission | $30 \nInner Circle VIP | $45 \n\n\n\nPremiere seating: first two rows\nPre-performance talk-back with dancers and choreographers of Hartford Dance Collective\nEarly-admission\nReserved Parking\nAccess to one open rehearsal (April TBD)\n\n\n\nHartford Dance Collective | The Hartford Dance Collective bridges the gap between dance and community by curating unique and accessible performances led by female identifying choreographers and offering open adult movement classes that foster artistic expression\, connection\, and inclusivity. \nSince July 2017\, the Hartford Dance Collective has curated performances in unique settings\, featuring female choreographers from across the nation. We have shared dance at the Connecticut Convention Center\, the Wadsworth Atheneum Museum of Art\, Mortensen Riverfront Plaza\, ShapeShifter Lab\, Real Art Ways\, TheaterWorks Hartford\, Dunkin Park\, Parkville Market\, & multiple breweries around the Connecticut\, to name a few; and we aim to continue to share the art form with a wide range of demographics. Along with many small programs that we present throughout the year\, \nThe Hartford Dance Collective curates the annual Hartford Dance Festival in Elizabeth Park with 25 performing groups\, which is the largest free dance festival in Connecticut. Our studio space in Hartford\, Connecticut\, provides creatives with a home to hone in on their movement vocabulary and the opportunity for us to bring professional dancers to Hartford including dancers from Pilobolus\, David Dorfman Dance\, the Limon Company\, the Radio City Rockettes\, Doug Varone and Dancers\, the Merce Cunningham Trust\, and the Brooklynettes\, to name a few. We hold the belief that everyone can dance and everyone should. Our professional and inspiring studio hosts open adult movement classes for the community featuring the Collective’s Resident Artists and Guest Instructors. A perfect place for a dancer to train\, a former dancer to reignite their love for movement\, or a member of the community looking to practice dance movement as a form of exercise\, art\, or meditation. Movement allows us to escape\, which drives our commitment to curating experiences that allow for discovery and connection.
URL:https://wdsmuseum.org/event/performance-american-contemporary-dance-with-the-hartford-dance-collective-2/
LOCATION:WDS Museum\, 211 Main Street\, Wethersfield\, CT\, 06109
CATEGORIES:Performance,Members,Special Event,Dance,America 250
ATTACH;FMTTYPE=image/png:https://wdsmuseum.org/wp-content/uploads/2026/02/American-Contemporary-Dances_HDC_2026.png
END:VEVENT
END:VCALENDAR