BEGIN:VCALENDAR
VERSION:2.0
PRODID:-//Webb Deane Stevens Museum - ECPv6.15.20//NONSGML v1.0//EN
CALSCALE:GREGORIAN
METHOD:PUBLISH
X-ORIGINAL-URL:https://wdsmuseum.org
X-WR-CALDESC:Events for Webb Deane Stevens Museum
REFRESH-INTERVAL;VALUE=DURATION:PT1H
X-Robots-Tag:noindex
X-PUBLISHED-TTL:PT1H
BEGIN:VTIMEZONE
TZID:America/New_York
BEGIN:DAYLIGHT
TZOFFSETFROM:-0500
TZOFFSETTO:-0400
TZNAME:EDT
DTSTART:20250309T070000
END:DAYLIGHT
BEGIN:STANDARD
TZOFFSETFROM:-0400
TZOFFSETTO:-0500
TZNAME:EST
DTSTART:20251102T060000
END:STANDARD
BEGIN:DAYLIGHT
TZOFFSETFROM:-0500
TZOFFSETTO:-0400
TZNAME:EDT
DTSTART:20260308T070000
END:DAYLIGHT
BEGIN:STANDARD
TZOFFSETFROM:-0400
TZOFFSETTO:-0500
TZNAME:EST
DTSTART:20261101T060000
END:STANDARD
BEGIN:DAYLIGHT
TZOFFSETFROM:-0500
TZOFFSETTO:-0400
TZNAME:EDT
DTSTART:20270314T070000
END:DAYLIGHT
BEGIN:STANDARD
TZOFFSETFROM:-0400
TZOFFSETTO:-0500
TZNAME:EST
DTSTART:20271107T060000
END:STANDARD
END:VTIMEZONE
BEGIN:VEVENT
DTSTART;TZID=America/New_York:20260409T190000
DTEND;TZID=America/New_York:20260409T200000
DTSTAMP:20260423T064720
CREATED:20260213T163320Z
LAST-MODIFIED:20260226T044001Z
UID:10000108-1775761200-1775764800@wdsmuseum.org
SUMMARY:LECTURE | America's Tapestry: Fiber Arts & The Revolution
DESCRIPTION:LECTURE | America’s Tapestry: Fiber Arts & The Revolution with Stefan Romero of America’s Tapestry\, a collaborative community embroidery project \nThursday\, April 9\, 7 PM \nBuy Tickets \nJoin WDS and America’s Tapestry to learn about the prominent role needle art is playing in our nation’s upcoming 250th anniversary. America’s Tapestry founder and director Stefan Romero will discuss the creation of this collaborative community embroidery project\, highlighting lesser-known stories from the American Revolution. Get a deep dive on everything from panel design to the stories of those who are working on bringing these incredible embroideries to life. From finding inspiration in the Scottish Borders to grassroots organizing in the United States\, hear the story of how this ambitious project came to life. \nTickets: $15 |$12.50 Virtual | $10 Members \nThis lecture will be offered in person and via Zoom. \n*Zoom link will be provided in advance of the lecture. \n  \nStefan Romero | Director and Founder of America’s Tapestry Stefan Romero is a graduate of Carnegie Mellon University’s prestigious College of Fine Arts\, where he specialized in the dress and textiles of Colonial America. As a Fulbright Scholar\, Stefan deepened his understanding of the discipline through his Masters Degree at the University of Glasgow in Scotland. In collaboration with William & Mary (VA)\, Seton Hill University (PA)\, and a number of carefully selected historical and craft organizations\, Stefan is creating a unique exhibition: “America’s Tapestry”. To learn more about America’s Tapestry\, please visit www.americastapestry.com.
URL:https://wdsmuseum.org/event/lecture-250-americas-tapestry-fiber-arts-the-revolution/
LOCATION:WDS Museum\, 211 Main Street\, Wethersfield\, CT\, 06109
CATEGORIES:Learning Series,Lecture,Members,Antiques & Collectibles,Colonial History,America 250
ATTACH;FMTTYPE=image/png:https://wdsmuseum.org/wp-content/uploads/2026/02/Americas-Tapestry.png
END:VEVENT
END:VCALENDAR