BEGIN:VCALENDAR
VERSION:2.0
PRODID:-//Webb Deane Stevens Museum - ECPv6.15.20//NONSGML v1.0//EN
CALSCALE:GREGORIAN
METHOD:PUBLISH
X-WR-CALNAME:Webb Deane Stevens Museum
X-ORIGINAL-URL:https://wdsmuseum.org
X-WR-CALDESC:Events for Webb Deane Stevens Museum
REFRESH-INTERVAL;VALUE=DURATION:PT1H
X-Robots-Tag:noindex
X-PUBLISHED-TTL:PT1H
BEGIN:VTIMEZONE
TZID:America/New_York
BEGIN:DAYLIGHT
TZOFFSETFROM:-0500
TZOFFSETTO:-0400
TZNAME:EDT
DTSTART:20240310T070000
END:DAYLIGHT
BEGIN:STANDARD
TZOFFSETFROM:-0400
TZOFFSETTO:-0500
TZNAME:EST
DTSTART:20241103T060000
END:STANDARD
BEGIN:DAYLIGHT
TZOFFSETFROM:-0500
TZOFFSETTO:-0400
TZNAME:EDT
DTSTART:20250309T070000
END:DAYLIGHT
BEGIN:STANDARD
TZOFFSETFROM:-0400
TZOFFSETTO:-0500
TZNAME:EST
DTSTART:20251102T060000
END:STANDARD
BEGIN:DAYLIGHT
TZOFFSETFROM:-0500
TZOFFSETTO:-0400
TZNAME:EDT
DTSTART:20260308T070000
END:DAYLIGHT
BEGIN:STANDARD
TZOFFSETFROM:-0400
TZOFFSETTO:-0500
TZNAME:EST
DTSTART:20261101T060000
END:STANDARD
END:VTIMEZONE
BEGIN:VEVENT
DTSTART;TZID=America/New_York:20251031T183000
DTEND;TZID=America/New_York:20251031T203000
DTSTAMP:20260423T124027
CREATED:20250831T194744Z
LAST-MODIFIED:20250912T023107Z
UID:10000074-1761935400-1761942600@wdsmuseum.org
SUMMARY:SPECIAL EVENT | Witches and Tombstones Spooktacular
DESCRIPTION:Join us on a special Halloween night as we descend into the witching hour. Our Halloween Spooktacular is an immersive experience that will transport you through our haunted history. \nA Spirit Guide – arisen for one night only – will escort you to the Isaac Stevens house where you will meet our weeping widow and discover the macabre funerary practices of the 19th century – an unfortunate regular occurrence for the Stevens family. As you follow your Spirit Guide\, you will pass through the Ancient Burial Ground where they will delight you with tales of some of Wethersfield’s longest serving ghouls. \nAt the Buttolph-Williams House you will partake in the trial of an accused witch and witness first-hand the hysteria that overtook 17 th -century Connecticut Puritans and led neighbors to condemn neighbors to the hangman’s noose. Your final stop on this journey through haunted history is the Silas Deane House. Unfortunately\, you will have arrived just a bit too late for poor Mrs. Deane\, but her ghost may tell you of the dark history of 18 th -century medicine that sealed her fate. If you dare to linger\, your obliging guide will invite you to toast her soul with a spirited drink in the old house. The only tour to be given after dark\, this extended Witches and Tombstones tour will haunt you long after you’ve departed. \nTickets: $55 \nTours: Friday\, October 31\, 6:30 pm and 7:30 pm. Each tour is limited to 20 souls. \nYou must be 18 years or older to participate in this tour.  Valid I.D. is required for all attendees. \nPlease note that this program lasts approximately 1.5 hours and requires the ability to walk some\ndistances over unpaved and uneven ground as well as standing for periods of time.
URL:https://wdsmuseum.org/event/special-event-witches-and-tombstones-spooktacular/
LOCATION:WDS Museum\, 211 Main Street\, Wethersfield\, CT\, 06109
CATEGORIES:Performance,Holiday Program,Special Event,Spiritual and Spooky
ATTACH;FMTTYPE=image/png:https://wdsmuseum.org/wp-content/uploads/2025/08/Restoration-Revealed-July-31st--e1756669604716.png
END:VEVENT
END:VCALENDAR