BEGIN:VCALENDAR
VERSION:2.0
PRODID:-//Webb Deane Stevens Museum - ECPv6.15.20//NONSGML v1.0//EN
CALSCALE:GREGORIAN
METHOD:PUBLISH
X-WR-CALNAME:Webb Deane Stevens Museum
X-ORIGINAL-URL:https://wdsmuseum.org
X-WR-CALDESC:Events for Webb Deane Stevens Museum
REFRESH-INTERVAL;VALUE=DURATION:PT1H
X-Robots-Tag:noindex
X-PUBLISHED-TTL:PT1H
BEGIN:VTIMEZONE
TZID:America/New_York
BEGIN:DAYLIGHT
TZOFFSETFROM:-0500
TZOFFSETTO:-0400
TZNAME:EDT
DTSTART:20250309T070000
END:DAYLIGHT
BEGIN:STANDARD
TZOFFSETFROM:-0400
TZOFFSETTO:-0500
TZNAME:EST
DTSTART:20251102T060000
END:STANDARD
BEGIN:DAYLIGHT
TZOFFSETFROM:-0500
TZOFFSETTO:-0400
TZNAME:EDT
DTSTART:20260308T070000
END:DAYLIGHT
BEGIN:STANDARD
TZOFFSETFROM:-0400
TZOFFSETTO:-0500
TZNAME:EST
DTSTART:20261101T060000
END:STANDARD
BEGIN:DAYLIGHT
TZOFFSETFROM:-0500
TZOFFSETTO:-0400
TZNAME:EDT
DTSTART:20270314T070000
END:DAYLIGHT
BEGIN:STANDARD
TZOFFSETFROM:-0400
TZOFFSETTO:-0500
TZNAME:EST
DTSTART:20271107T060000
END:STANDARD
END:VTIMEZONE
BEGIN:VEVENT
DTSTART;TZID=America/New_York:20260312T190000
DTEND;TZID=America/New_York:20260312T210000
DTSTAMP:20260423T081415
CREATED:20260122T193551Z
LAST-MODIFIED:20260309T173254Z
UID:10000094-1773342000-1773349200@wdsmuseum.org
SUMMARY:LECTURE | Beyond Blue and White: The Hidden Women of Delftware
DESCRIPTION:Beyond Blue and White: The Hidden Women of Delftware\nWDS Book Talk with Genevieve Wheeler Brown \nThursday\, March 12\, 7:00 PM \nThis lecture is offered in person and via ZOOM. Please purchase virtual tickets prior to 4:00 PM on the day of the lecture to ensure you receive the link.  \nPurchase Tickets\n  \nWhen over seventy-five pieces of rare Delftware were discovered in a historic Manhattan townhouse\, decorative art expert Genevieve Wheeler Brown recognized these exquisite ceramics held secrets overlooked for centuries. Join us for an illustrated journey through the hidden history of this beloved art form and the remarkable women who shaped it. \nThrough vivid images of 17th and 18th century treasures—puzzle jugs\, flower pyramids\, Persian blue teapots\, and ornate tiles—Brown reveals the stories of female factory owners like Barbara Rotteveel\, who founded “The Three Bells” in 1671\, and royal patron Queen Mary II\, whose passion for blue and white ceramics sparked a decorative revolution. Discover how pioneering American collectors Mrs. J. Pierpont Morgan and Mrs. Cornelius Vanderbilt II laid the groundwork for women in museums while preserving decorative arts for future generations. \nPart art history\, part detective story\, this presentation celebrates the artistry and forceful female lives behind one of the world’s most coveted ceramics. \nTickets: $15 | $12.50 Virtual | $10 Members \nThis lecture will be offered in person and via Zoom. \n*Zoom link will be provided in advance of the lecture. \nAbout the Author: As a decorative art advisor and writer with over thirty years in the art world\, including a decade with Christie’s in New York and London\, Genevieve Wheeler Brown has been actively involved in the community of Delftware. She has also participated on the Antiques Roadshow as an appraiser with an eye out for overlooked “treasure.” In her role\, she has held innumerable objects\, from fake Stradivari violins to gold-mounted Faberge eggs\, considering their value but also the stories they can tell. Beyond Blue and White has been named an NPR Here & Now Editors’ Pick!\, The Art Newspaper‘s Book Bag Selection and recently received glowing reviews by the Magazine ANTIQUES and The Wall Street Journal. \n 
URL:https://wdsmuseum.org/event/lecture-beyond-blue-and-white-the-hidden-women-of-delftware/
LOCATION:WDS Museum\, 211 Main Street\, Wethersfield\, CT\, 06109
CATEGORIES:Learning Series,Lecture,Members,Antiques & Collectibles,Book Club
ATTACH;FMTTYPE=image/jpeg:https://wdsmuseum.org/wp-content/uploads/2026/01/20-Peacock-dish-scaled.jpg
END:VEVENT
BEGIN:VEVENT
DTSTART;TZID=America/New_York:20260314T100000
DTEND;TZID=America/New_York:20260314T113000
DTSTAMP:20260423T081415
CREATED:20260206T143145Z
LAST-MODIFIED:20260304T034619Z
UID:10000095-1773482400-1773487800@wdsmuseum.org
SUMMARY:WORKSHOP | A Spring Pruning Primer: Roses\, Fruit Trees\, Evergreens\, Perennials\, and Grasses
DESCRIPTION:Purchase Tickets\nNOTE: Due to weather\, this event has moved to MARCH 14\, with a new rain date of March 21.  \nAfter a long\, cold winter\, gardeners are eager to get back outside. Kick off your 2026 gardening season by joining WDS Head Gardener Peter Winne for a hands-on workshop focused on pruning techniques and other essential early-spring garden tasks. Learn about which plants to prune now\, how much to cut back\, and the right tools for the job. The workshop will also cover strategies for waking up perennial beds and borders after winter dormancy. Plants covered include roses\, ornamental and fruit trees\, perennials\, ornamental grasses\, and evergreen shrubs. This outdoor demonstration will take place in the museum gardens. In the event of rain\, snow\, or extreme cold\, the workshop will be rescheduled for the following Saturday\, March 14. \nPeter Winne | Hartford-based horticulturist Peter Winne is a landscape designer and gardener who has served as Head Gardener at WDS since 2022. He founded Peter Winne Gardens in 2021 after four years as Head Gardener at Hartford’s Elizabeth Park\, and currently leads the redesign of the Frank M. Weston Garden adjacent to the Wethersfield library. \nTickets: $25 | $20 Members | Children 6-12 FREE \n*This event is not suitable for children under 6.
URL:https://wdsmuseum.org/event/springpruning/
LOCATION:WDS Museum\, 211 Main Street\, Wethersfield\, CT\, 06109
CATEGORIES:Workshop,Garden Program,Kids Free,Members
ATTACH;FMTTYPE=image/jpeg:https://wdsmuseum.org/wp-content/uploads/2026/02/Spring-Pruning-101-header.jpg
END:VEVENT
BEGIN:VEVENT
DTSTART;TZID=America/New_York:20260321T100000
DTEND;TZID=America/New_York:20260321T110000
DTSTAMP:20260423T081415
CREATED:20250911T113603Z
LAST-MODIFIED:20260317T190823Z
UID:10000082-1774087200-1774090800@wdsmuseum.org
SUMMARY:CLASS | Saturday Morning Arts: Open-Level Dance Class with The Hartford Dance Collective
DESCRIPTION:Purchase Tickets\nDate: March 21 \nDance with us! Join us one Saturday a month at 10 am to awaken your creativity and get moving. Each month\, a choreographer from the Hartford Dance Collective will lead an open-level dance class designed to build curiosity\, strength\, range of motion and confidence in your own  movement. Classes include warm-ups\, exercises in mobility\, and dynamic choreography phrasework. If you’ve been dancing all your life\, are a former dancer\, or have never danced before\, YOU ARE WELCOME HERE! Move your body freely in a supportive community\, surrounded by art and our beautiful Colonial Revival Garden. \nUpcoming Dates:  \nApr 11 \nMay 9 \nTickets: $20 \nThe Hartford Dance Collective | The Hartford Dance Collective aims to empower women to have a voice and an equal opportunity in dance by providing choreographic and leadership opportunities. By sharing professional contemporary dance with new audiences and providing performances in diverse locations\, they work to bridge the gap between the arts and the community. Their studio space at Parkville Sounds in Hartford\, CT\, provides creatives with a home to hone in on their movement vocabulary\, and they hold the belief that everyone can dance and everyone should. www.thedancecollective.org
URL:https://wdsmuseum.org/event/class-saturday-morning-arts-free-movement-dance-class-with-the-hartford-dance-collective-5/
LOCATION:WDS Museum\, 211 Main Street\, Wethersfield\, CT\, 06109
CATEGORIES:Performance,Workshop,Members,Special Event
ATTACH;FMTTYPE=image/png:https://wdsmuseum.org/wp-content/uploads/2025/09/HDC2-e1757590507101.png
END:VEVENT
END:VCALENDAR