BEGIN:VCALENDAR
VERSION:2.0
PRODID:-//Webb Deane Stevens Museum - ECPv6.15.20//NONSGML v1.0//EN
CALSCALE:GREGORIAN
METHOD:PUBLISH
X-ORIGINAL-URL:https://wdsmuseum.org
X-WR-CALDESC:Events for Webb Deane Stevens Museum
REFRESH-INTERVAL;VALUE=DURATION:PT1H
X-Robots-Tag:noindex
X-PUBLISHED-TTL:PT1H
BEGIN:VTIMEZONE
TZID:America/New_York
BEGIN:DAYLIGHT
TZOFFSETFROM:-0500
TZOFFSETTO:-0400
TZNAME:EDT
DTSTART:20240310T070000
END:DAYLIGHT
BEGIN:STANDARD
TZOFFSETFROM:-0400
TZOFFSETTO:-0500
TZNAME:EST
DTSTART:20241103T060000
END:STANDARD
BEGIN:DAYLIGHT
TZOFFSETFROM:-0500
TZOFFSETTO:-0400
TZNAME:EDT
DTSTART:20250309T070000
END:DAYLIGHT
BEGIN:STANDARD
TZOFFSETFROM:-0400
TZOFFSETTO:-0500
TZNAME:EST
DTSTART:20251102T060000
END:STANDARD
BEGIN:DAYLIGHT
TZOFFSETFROM:-0500
TZOFFSETTO:-0400
TZNAME:EDT
DTSTART:20260308T070000
END:DAYLIGHT
BEGIN:STANDARD
TZOFFSETFROM:-0400
TZOFFSETTO:-0500
TZNAME:EST
DTSTART:20261101T060000
END:STANDARD
END:VTIMEZONE
BEGIN:VEVENT
DTSTART;TZID=America/New_York:20251122T100000
DTEND;TZID=America/New_York:20251122T110000
DTSTAMP:20260423T180416
CREATED:20250910T182833Z
LAST-MODIFIED:20250911T115758Z
UID:10000078-1763805600-1763809200@wdsmuseum.org
SUMMARY:CLASS | Saturday Morning Arts: Free-Movement Dance Class with The Hartford Dance Collective
DESCRIPTION:Join us one Saturday a month at 10 am to awaken your creativity and get you moving. Each month\, a choreographer from the Hartford Dance Collective will lead a free movement class designed to build curiosity\, strength\, range of motion and confidence in your own dance movement. Classes include warm-ups\, exercises in mobility\, and dynamic choreography phrasework. If you’ve been dancing all your life\, are a former dancer\, or have never danced before\, YOU ARE WELCOME HERE! \nMove your body freely in a supportive community\, surrounded by art and our beautiful Colonial Revival Garden. Want more? Stay after class for an open rehearsal and Q+A with the women of HDC. \nUpcoming Dates:  \nNov 22 \nDec 13 \nJan 24 \nFeb 21 \nMar 21 \nApr 25 \nMay 16 \nTickets: \nClass Only: $20 \nClass + Historic House Tour: $38 \nClass + Open Rehearsal: $35 \nThe Hartford Dance Collective \nThe Hartford Dance Collective aims to empower women to have a voice and an equal opportunity in dance by providing choreographic and leadership opportunities. By sharing professional contemporary dance with new audiences and providing performances in diverse locations\, they work to bridge the gap between the arts and the community. Their studio space at Parkville Sounds in Hartford\, CT\, provides creatives with a home to hone in on their movement vocabulary\, and they hold the belief that everyone can dance and everyone should. www.thedancecollective.org
URL:https://wdsmuseum.org/event/class-saturday-morning-arts-free-movement-dance-class-with-the-hartford-dance-collective/
LOCATION:WDS Museum\, 211 Main Street\, Wethersfield\, CT\, 06109
CATEGORIES:Workshop,Special Event
ATTACH;FMTTYPE=image/png:https://wdsmuseum.org/wp-content/uploads/2025/09/Hartford-Dance-Collective_Free-Movement-Classes.png
END:VEVENT
END:VCALENDAR