BEGIN:VCALENDAR
VERSION:2.0
PRODID:-//Webb Deane Stevens Museum - ECPv6.15.20//NONSGML v1.0//EN
CALSCALE:GREGORIAN
METHOD:PUBLISH
X-ORIGINAL-URL:https://wdsmuseum.org
X-WR-CALDESC:Events for Webb Deane Stevens Museum
REFRESH-INTERVAL;VALUE=DURATION:PT1H
X-Robots-Tag:noindex
X-PUBLISHED-TTL:PT1H
BEGIN:VTIMEZONE
TZID:America/New_York
BEGIN:DAYLIGHT
TZOFFSETFROM:-0500
TZOFFSETTO:-0400
TZNAME:EDT
DTSTART:20240310T070000
END:DAYLIGHT
BEGIN:STANDARD
TZOFFSETFROM:-0400
TZOFFSETTO:-0500
TZNAME:EST
DTSTART:20241103T060000
END:STANDARD
BEGIN:DAYLIGHT
TZOFFSETFROM:-0500
TZOFFSETTO:-0400
TZNAME:EDT
DTSTART:20250309T070000
END:DAYLIGHT
BEGIN:STANDARD
TZOFFSETFROM:-0400
TZOFFSETTO:-0500
TZNAME:EST
DTSTART:20251102T060000
END:STANDARD
BEGIN:DAYLIGHT
TZOFFSETFROM:-0500
TZOFFSETTO:-0400
TZNAME:EDT
DTSTART:20260308T070000
END:DAYLIGHT
BEGIN:STANDARD
TZOFFSETFROM:-0400
TZOFFSETTO:-0500
TZNAME:EST
DTSTART:20261101T060000
END:STANDARD
END:VTIMEZONE
BEGIN:VEVENT
DTSTART;TZID=America/New_York:20250412T130000
DTEND;TZID=America/New_York:20250412T143000
DTSTAMP:20260425T070651
CREATED:20250204T024655Z
LAST-MODIFIED:20250319T172130Z
UID:10000050-1744462800-1744468200@wdsmuseum.org
SUMMARY:WORKSHOP | Topiary Workshop with Anthony Bellomo of the Orangerie
DESCRIPTION:Learn the art of topiary with expert Anthony Bellomo of Orangerie. Join us on April 5th at 1:00 PM for a hands-on workshop where you’ll discover time-honored techniques for creating and maintaining elegant topiary forms that have defined formal gardens for centuries. Whether you’re a seasoned gardener or new to the world of ornamental pruning\, Anthony will guide you through the fundamentals of this classic garden art. A selection of topiary will be available on-site for purchase after the event. Don’t miss this unique opportunity to bring timeless elegance to your garden. \nFollow: @anthony.bellomo @orangeriegarden \nwww.orangeriegarden.com \nPurchase Tickets  | $15 General Admission | $10 Members | $5 Students \n  \n 
URL:https://wdsmuseum.org/event/workshop-topiary-workshop-with-anthony-bellomo-of-the-orangerie/
LOCATION:WDS Museum\, 211 Main Street\, Wethersfield\, CT\, 06109
CATEGORIES:Workshop
ATTACH;FMTTYPE=image/png:https://wdsmuseum.org/wp-content/uploads/2025/02/Topiary-Workshop-Website-Banner.png
END:VEVENT
END:VCALENDAR