BEGIN:VCALENDAR
VERSION:2.0
PRODID:-//Webb Deane Stevens Museum - ECPv6.15.20//NONSGML v1.0//EN
CALSCALE:GREGORIAN
METHOD:PUBLISH
X-ORIGINAL-URL:https://wdsmuseum.org
X-WR-CALDESC:Events for Webb Deane Stevens Museum
REFRESH-INTERVAL;VALUE=DURATION:PT1H
X-Robots-Tag:noindex
X-PUBLISHED-TTL:PT1H
BEGIN:VTIMEZONE
TZID:America/New_York
BEGIN:DAYLIGHT
TZOFFSETFROM:-0500
TZOFFSETTO:-0400
TZNAME:EDT
DTSTART:20240310T070000
END:DAYLIGHT
BEGIN:STANDARD
TZOFFSETFROM:-0400
TZOFFSETTO:-0500
TZNAME:EST
DTSTART:20241103T060000
END:STANDARD
BEGIN:DAYLIGHT
TZOFFSETFROM:-0500
TZOFFSETTO:-0400
TZNAME:EDT
DTSTART:20250309T070000
END:DAYLIGHT
BEGIN:STANDARD
TZOFFSETFROM:-0400
TZOFFSETTO:-0500
TZNAME:EST
DTSTART:20251102T060000
END:STANDARD
BEGIN:DAYLIGHT
TZOFFSETFROM:-0500
TZOFFSETTO:-0400
TZNAME:EDT
DTSTART:20260308T070000
END:DAYLIGHT
BEGIN:STANDARD
TZOFFSETFROM:-0400
TZOFFSETTO:-0500
TZNAME:EST
DTSTART:20261101T060000
END:STANDARD
END:VTIMEZONE
BEGIN:VEVENT
DTSTART;TZID=America/New_York:20250703T140000
DTEND;TZID=America/New_York:20250703T150000
DTSTAMP:20260424T073745
CREATED:20250618T033404Z
LAST-MODIFIED:20250630T181921Z
UID:10000066-1751551200-1751554800@wdsmuseum.org
SUMMARY:Restoration Revealed: Craftsmen at Work
DESCRIPTION:Restoration Revealed: Craftsmen at Work \nStep into living history every Thursday at 2 PM \nWatch master craftsmen breathe new life into centuries-old treasures at WDS Museum’s weekly restoration showcase. From the skilled hands of Mount Vernon’s master carpenter Nathanial Ulfers to rising talent like American College of Building Arts intern Ryan\, witness traditional trades that built America. \nSee history unfold before your eyes: \n\nAn 18th-century loom taking shape timber by timber\nHistoric interiors restored with period-authentic techniques\nThe iconic 1752 Joseph Webb House receiving its new cedar-shake roof\n\nThis isn’t just observation—it’s immersion. Chat directly with our artisans about time-honored methods passed down through generations. Discover the secrets behind mortise-and-tenon joinery\, hand-split shingles\, and authentic colonial finishes that have weathered nearly three centuries. \nEvery Thursday brings something new. Check our social media Thursday mornings to preview the day’s projects\, or simply drop by to be surprised. Whether you’re a history buff\, DIY enthusiast\, or curious about American craftsmanship\, you’ll leave with newfound appreciation for the skills that shaped our nation. \nNo tickets required—just curiosity and a respect for the craft. \nRestoration Revealed: Where the past meets the present\, one careful stroke at a time. \nMade possible with the generous support of the Richard Hampton Jenrette Foundation
URL:https://wdsmuseum.org/event/restoration-revealed-craftsmen-at-work/
LOCATION:WDS Museum\, 211 Main Street\, Wethersfield\, CT\, 06109
CATEGORIES:Learning Series,Workshop,Antiques & Collectibles,Colonial History,Preservation
ATTACH;FMTTYPE=image/png:https://wdsmuseum.org/wp-content/uploads/2025/06/ACBA-Intern-.png
END:VEVENT
BEGIN:VEVENT
DTSTART;TZID=America/New_York:20250726T100000
DTEND;TZID=America/New_York:20250726T160000
DTSTAMP:20260424T073745
CREATED:20250618T031744Z
LAST-MODIFIED:20250717T163828Z
UID:10000065-1753524000-1753545600@wdsmuseum.org
SUMMARY:Traditional Trades Fair
DESCRIPTION:Step into the world of master craftspeople and discover the time-honored skills that built America. On Saturday\, July 26th from 10 am to 4 pm\, Webb Deane Stevens Museum opens its doors to showcase the traditional trades that keep our historic treasures alive. \nWatch skilled artisans demonstrate timber framing\, roofing techniques\, and master carpentry as they work on our own preservation projects\, including the major roof replacement currently underway on the historic Webb House. Experience the artistry of women’s traditional work through textile demonstrations\, weaving\, and historic loom operations. Learn the meticulous craft of paint stripping and restoration that reveals centuries of hidden history. \nThis hands-on day welcomes everyone—whether you’re a preservation enthusiast\, restoring your own historic home\, or simply fascinated by traditional craftsmanship. Bring the whole family to witness skills passed down through generations\, where visual beauty and uncompromising quality were not just ideals\, but the standard. \nSaturday\, July 26 | 10 am – 4 pm\nWebb Barn\, Old Wethersfield\nDemonstrations\, workshops\, and family-friendly activities \nTickets: $10 | $8 Members \nExperience the dedication and artistry that preservation requires\, and discover why these traditional trades remain essential to protecting our architectural heritage. \nMade possible with the generous support of the Richard Hampton Jenrette Foundation
URL:https://wdsmuseum.org/event/the-art-of-preservation-traditional-trades-day/
LOCATION:WDS Museum\, 211 Main Street\, Wethersfield\, CT\, 06109
CATEGORIES:Learning Series,Workshop,Kids Free,Colonial History,Preservation
ATTACH;FMTTYPE=image/png:https://wdsmuseum.org/wp-content/uploads/2025/06/Tradtional-Trades-Fair-750-x-472_1-2.png
END:VEVENT
END:VCALENDAR