BEGIN:VCALENDAR
VERSION:2.0
PRODID:-//Webb Deane Stevens Museum - ECPv6.15.20//NONSGML v1.0//EN
CALSCALE:GREGORIAN
METHOD:PUBLISH
X-WR-CALNAME:Webb Deane Stevens Museum
X-ORIGINAL-URL:https://wdsmuseum.org
X-WR-CALDESC:Events for Webb Deane Stevens Museum
REFRESH-INTERVAL;VALUE=DURATION:PT1H
X-Robots-Tag:noindex
X-PUBLISHED-TTL:PT1H
BEGIN:VTIMEZONE
TZID:America/New_York
BEGIN:DAYLIGHT
TZOFFSETFROM:-0500
TZOFFSETTO:-0400
TZNAME:EDT
DTSTART:20240310T070000
END:DAYLIGHT
BEGIN:STANDARD
TZOFFSETFROM:-0400
TZOFFSETTO:-0500
TZNAME:EST
DTSTART:20241103T060000
END:STANDARD
BEGIN:DAYLIGHT
TZOFFSETFROM:-0500
TZOFFSETTO:-0400
TZNAME:EDT
DTSTART:20250309T070000
END:DAYLIGHT
BEGIN:STANDARD
TZOFFSETFROM:-0400
TZOFFSETTO:-0500
TZNAME:EST
DTSTART:20251102T060000
END:STANDARD
BEGIN:DAYLIGHT
TZOFFSETFROM:-0500
TZOFFSETTO:-0400
TZNAME:EDT
DTSTART:20260308T070000
END:DAYLIGHT
BEGIN:STANDARD
TZOFFSETFROM:-0400
TZOFFSETTO:-0500
TZNAME:EST
DTSTART:20261101T060000
END:STANDARD
END:VTIMEZONE
BEGIN:VEVENT
DTSTART;TZID=America/New_York:20251121T190000
DTEND;TZID=America/New_York:20251121T203000
DTSTAMP:20260423T192051
CREATED:20250905T174714Z
LAST-MODIFIED:20251112T015252Z
UID:10000077-1763751600-1763757000@wdsmuseum.org
SUMMARY:PERFORMANCE | Alternative Tragic Americana: An Evening with Singer-Songwriter Anna May
DESCRIPTION:Detach - Anna May - 01 Detach	\n	\n	\n\n	\nPERFORMANCE | Alternative Tragic Americana: An Evening with Singer-Songwriter Anna May \nFriday\, November 21\, 7:00 PM \nPurchase Tickets\nExperience the ethereal artistry of Connecticut-born singer-songwriter Anna May in an intimate salon-style concert. Anna’s lyrical sensibility is steeped in wisdom and whimsy that explores both estrangement and connection\, drawing inspiration from artists like Leonard Cohen\, Neil Young\, and Billie Holiday. Her tender\, immersive moodscapes with a western folk flare create otherworldly sounds that blur the boundaries between folk\, jazz\, and contemplative Americana. This limited-seating performance promises an unforgettable evening of haunting vocals and poetic storytelling in our historic atmosphere. \nTickets: $20 | $15 Members
URL:https://wdsmuseum.org/event/performance-alternative-tragic-americana-an-evening-with-singer-songwriter-anna-may/
LOCATION:WDS Museum\, 211 Main Street\, Wethersfield\, CT\, 06109
CATEGORIES:concert,Performance,Special Event,Spiritual and Spooky
ATTACH;FMTTYPE=image/png:https://wdsmuseum.org/wp-content/uploads/2025/09/Anna-May_Field-2.png
END:VEVENT
BEGIN:VEVENT
DTSTART;TZID=America/New_York:20251116T140000
DTEND;TZID=America/New_York:20251116T170000
DTSTAMP:20260423T192051
CREATED:20250912T022422Z
LAST-MODIFIED:20251112T014536Z
UID:10000085-1763301600-1763312400@wdsmuseum.org
SUMMARY:SPECIAL EVENT | Thanksgiving Dinner - "A Taste of Time"
DESCRIPTION:Come share a table\, a toast\, and a tradition at our annual Thanksgiving Dinner in the historic Webb Barn\, supporting the preservation and education mission of the Webb Deane Stevens Museum.  \nThanksgiving Tickets \nA beloved Wethersfield tradition\, our Thanksgiving Dinner invites you to enjoy “A Taste of Time\,” celebrating five centuries of American fare. A VIP reception transports you back to our founding years\, featuring a champagne toast and 17th-century kickshaw. Travel forward through the centuries as you join fellow revelers for a family-style feast inspired by 18th-century traditions and culminating in present day culinary classics. Savor heritage recipes from the earliest days of our nation through to contemporary New England cuisine. \nThe Host Committee also invites you to special pre-meal champagne reception in the Silas Deane House at 1 p.m. at the Patron level and above. Guests will be able to mingle with Brenton Grom\, the Museum’s new Executive Director\, and Tita Hyland\, President of The National Society of The Colonial Dames of America in The State of Connecticut and enjoy period music performed by harpist Linda Traue\, a member of the 5th Connecticut Regiment Revolutionary War reenactors. \nVIP Reception and 17th-century kickshaw: 1 PM \n“A Taste of Time” Thanksgiving Feast: 2 PM \nMENU \nFirst Course | 1700-1800s \nPlated | Oysters Rockefeller on a Bed of Greens \nFor Sharing | Smoked Trout Pate with Rustic Dark Breads \nSecond Course | 1900s  \nHoney Glazed Roasted Quail \nBrined & Roasted Turkey Breast \nFresh Cranberry Relish \nRoasted Chippolini Onions \nChesnut & Sage Pork Stuffing \nThird Course | 2000s \nBeef Short Rib with Celery Root Puree \nLocal Heirloom Squashes \nDessert |1600s \nIndian Corn Pudding & Parmesean Ice Cream \nMenu catered by Ani’s Table & Marketplace \nWines furnished by Vino Crudo \n  \nTICKETS \n https://www.zeffy.com/en-US/ticketing/wds-museum-thanksgiving-dinner-a-taste-of-time \n\n\n“Taste of Time” Heritage Dinner \n\n\nFriend: $125 | $115 Member \n\n\nVIP Reception & Dinner \n\n\nPatron: $250 (admits 1) \n\n\nFounder: $500 (admits 1) \n\n\nHost Committee: $1\,000 (admits 2) \n\n\nYour Support: Your ticket helps us preserve and protect the landmark homes that are the hallmark of the Webb Deane Stevens Museum. With your support\, we can continue to connect our founding ideals to our present\, build upon and interpret our unique collections\, and inspire meaningful conversations about the past and its relevance to today. Thank you. \nSPONSOR “A TASTE of TIME”: Gain visibility for your brand and message while supporting the preservation and education mission of the Webb Deane Stevens Museum. To learn more about sponsorship\, contanct Renee Dumouchel at rdumouchel@wdsmuseum.org or visit https://www.zeffy.com/en-US/ticketing/wds-museum-thanksgiving-dinner-a-taste-of-time-sponsorship \n  \n\nWe are incredibly grateful to our Host Committee and our Sponsors for their warmth and generosity. \nCornucopia Sponsor: Essex Financial \nHeritage Sponsor: Young Pharmaceuticals\, Inc. \nHarvest Sponsor: Lee G. Kuckro \nHearth Sponsor: Accounting Resources\, Inc. \n  \nMedia Sponsors: \nWethersfield Life \nRare Reminder\, Inc. \nHOST COMMITTEE \n\n\nDouglas Hyland\, Honorary Chair \n\n\nAlice Hyland \n\n\nAnn Burton \nMarian Kellner & Tim McLaughlin \nLee G. Kuckro \n\n\nJohn Kulesza \n\n\nThomas Miano \n\n\nDonald & Pamela Peterson \n\n\nIn-kind Support Provided By: \nAnderson Farms | Castor & Poly Boutique | Cottonwood + Church | D&D Market | Glastonbury Hills Country Club | Hartford Symphony Orchestra| Heirloom Market | Minuteman Press | Reliv Design | The Fresh Market | The Town of Wethersfield
URL:https://wdsmuseum.org/event/special-event-thanksgiving-dinner-a-taste-of-time/
LOCATION:WDS Museum\, 211 Main Street\, Wethersfield\, CT\, 06109
CATEGORIES:Holiday Program,Members,Colonial History,Preservation,Special Event
ATTACH;FMTTYPE=image/jpeg:https://wdsmuseum.org/wp-content/uploads/2025/09/2023-11-12-Webb-Deane-Stevens-48-e1761165186631.jpg
ORGANIZER;CN="WDS Museum":MAILTO:info@wdsmuseum.org
END:VEVENT
BEGIN:VEVENT
DTSTART;TZID=America/New_York:20251101T103000
DTEND;TZID=America/New_York:20251101T153000
DTSTAMP:20260423T192051
CREATED:20250818T115820Z
LAST-MODIFIED:20251010T191041Z
UID:10000070-1761993000-1762011000@wdsmuseum.org
SUMMARY:SPECIAL TOURS | Witches & Tombstones Tours (SOLD OUT - Buy Spooktacular Tickets Now!)
DESCRIPTION:November 1 tours are sold out. We have NEW tour times on October 26. Purchase tickets\, or join our expanded Halloween Spooktacular Witches and Tombstones tour on Oct 31! \nAn up-close and creepy examination of all things funereal\, our popular Witches & Tombstones tour returns on Saturday\, October 25th and November 1st. \nStart at the Isaac Stevens House as an attendee at an early-nineteenth-century wake and learn about mourning practices\, how illnesses were treated\, and how the living dealt with fears of being buried alive. Then visit Wethersfield’s Ancient Burying Ground. See the graves\, hear stories of those who met their end during Connecticut’s first mass murder\, and learn how gravestones warned the living of their own impending peril. The final stop on the tour is the Buttolph-Williams House (ca. 1711)\, the setting for the Newbery-winning children’s novel The Witch of Blackbird Pond by Elizabeth George Speare. Hear stories about the notorious Wethersfield Witch Trials\, which preceded the Salem Witch Trials by 30 years. The Buttolph-Williams House is a property of Connecticut Landmarks operated by the Webb Deane Stevens Museum. \nTour times: 10:30 a.m.\, 11:30 a.m.\, 12:30 p.m.\, 1:30 p.m.\, and 2:30 p.m. \nPURCHASE TICKETS HERE: Members $35 per person; Non-members $40 per person. \nTours are limited to groups of 16\, so reserve your tickets before they sell out! October 25th date is Sold Out! \n*Please note: The Witches & Tombstones tour includes climbing stairs and walking on uneven ground. It is not recommended for youth under age 12.
URL:https://wdsmuseum.org/event/special-tours-witches-tombstones-tours/
LOCATION:WDS Museum\, 211 Main Street\, Wethersfield\, CT\, 06109
CATEGORIES:Holiday Program,Special Event,Spiritual and Spooky
ATTACH;FMTTYPE=image/png:https://wdsmuseum.org/wp-content/uploads/2025/07/Witches-Tombstones-Image-for-marketing-with-text.png
END:VEVENT
BEGIN:VEVENT
DTSTART;TZID=America/New_York:20251031T183000
DTEND;TZID=America/New_York:20251031T203000
DTSTAMP:20260423T192051
CREATED:20250831T194744Z
LAST-MODIFIED:20250912T023107Z
UID:10000074-1761935400-1761942600@wdsmuseum.org
SUMMARY:SPECIAL EVENT | Witches and Tombstones Spooktacular
DESCRIPTION:Join us on a special Halloween night as we descend into the witching hour. Our Halloween Spooktacular is an immersive experience that will transport you through our haunted history. \nA Spirit Guide – arisen for one night only – will escort you to the Isaac Stevens house where you will meet our weeping widow and discover the macabre funerary practices of the 19th century – an unfortunate regular occurrence for the Stevens family. As you follow your Spirit Guide\, you will pass through the Ancient Burial Ground where they will delight you with tales of some of Wethersfield’s longest serving ghouls. \nAt the Buttolph-Williams House you will partake in the trial of an accused witch and witness first-hand the hysteria that overtook 17 th -century Connecticut Puritans and led neighbors to condemn neighbors to the hangman’s noose. Your final stop on this journey through haunted history is the Silas Deane House. Unfortunately\, you will have arrived just a bit too late for poor Mrs. Deane\, but her ghost may tell you of the dark history of 18 th -century medicine that sealed her fate. If you dare to linger\, your obliging guide will invite you to toast her soul with a spirited drink in the old house. The only tour to be given after dark\, this extended Witches and Tombstones tour will haunt you long after you’ve departed. \nTickets: $55 \nTours: Friday\, October 31\, 6:30 pm and 7:30 pm. Each tour is limited to 20 souls. \nYou must be 18 years or older to participate in this tour.  Valid I.D. is required for all attendees. \nPlease note that this program lasts approximately 1.5 hours and requires the ability to walk some\ndistances over unpaved and uneven ground as well as standing for periods of time.
URL:https://wdsmuseum.org/event/special-event-witches-and-tombstones-spooktacular/
LOCATION:WDS Museum\, 211 Main Street\, Wethersfield\, CT\, 06109
CATEGORIES:Performance,Holiday Program,Special Event,Spiritual and Spooky
ATTACH;FMTTYPE=image/png:https://wdsmuseum.org/wp-content/uploads/2025/08/Restoration-Revealed-July-31st--e1756669604716.png
END:VEVENT
BEGIN:VEVENT
DTSTART;TZID=America/New_York:20251026T113000
DTEND;TZID=America/New_York:20251026T153000
DTSTAMP:20260423T192051
CREATED:20251013T174526Z
LAST-MODIFIED:20251013T174526Z
UID:10000089-1761478200-1761492600@wdsmuseum.org
SUMMARY:SPECIAL TOURS | Witches & Tombstones Tours (NEW DATE)
DESCRIPTION:Oct 25 tours are sold out. We have added NEW tour times on October 26. Purchase tickets\, or join our expanded Halloween Spooktacular Witches and Tombstones tour on Oct 31! \nAn up-close and creepy examination of all things funereal\, our popular Witches & Tombstones tour returns on Saturday\, October 25th\, October 26th\, and November 1st. \nStart at the Isaac Stevens House as an attendee at an early-nineteenth-century wake and learn about mourning practices\, how illnesses were treated\, and how the living dealt with fears of being buried alive. Then visit Wethersfield’s Ancient Burying Ground. See the graves\, hear stories of those who met their end during Connecticut’s first mass murder\, and learn how gravestones warned the living of their own impending peril. The final stop on the tour is the Buttolph-Williams House (ca. 1711)\, the setting for the Newbery-winning children’s novel The Witch of Blackbird Pond by Elizabeth George Speare. Hear stories about the notorious Wethersfield Witch Trials\, which preceded the Salem Witch Trials by 30 years. The Buttolph-Williams House is a property of Connecticut Landmarks operated by the Webb Deane Stevens Museum. \nTour times: 11:30 a.m.\, 12:30 p.m.\, 1:30 p.m.\, and 2:30 p.m. \nPURCHASE TICKETS HERE: Members $35 per person; Non-members $40 per person. \nTours are limited to groups of 16\, so reserve your tickets before they sell out! (October 25th Tour Times are Sold Out) \n*Please note: The Witches & Tombstones tour includes climbing stairs and walking on uneven ground. It is not recommended for youth under age 12.
URL:https://wdsmuseum.org/event/special-tours-witches-tombstones-tours-new-date/
LOCATION:WDS Museum\, 211 Main Street\, Wethersfield\, CT\, 06109
CATEGORIES:Special Event,Spiritual and Spooky
ATTACH;FMTTYPE=image/png:https://wdsmuseum.org/wp-content/uploads/2025/08/Restoration-Revealed-July-31st--e1756669604716.png
END:VEVENT
BEGIN:VEVENT
DTSTART;TZID=America/New_York:20251025T103000
DTEND;TZID=America/New_York:20251025T153000
DTSTAMP:20260423T192051
CREATED:20250727T030947Z
LAST-MODIFIED:20251010T191123Z
UID:10000068-1761388200-1761406200@wdsmuseum.org
SUMMARY:SPECIAL TOURS | Witches & Tombstones Tours (SOLD OUT\, Buy Spooktacular Tickets Now!)
DESCRIPTION:Oct 25 tours are sold out. We have NEW tour times on October 26. Purchase tickets\, or join our expanded Halloween Spooktacular Witches and Tombstones tour on Oct 31! \nAn up-close and creepy examination of all things funereal\, our popular Witches & Tombstones tour returns on Saturday\, October 25th and November 1st. \nStart at the Isaac Stevens House as an attendee at an early-nineteenth-century wake and learn about mourning practices\, how illnesses were treated\, and how the living dealt with fears of being buried alive. Then visit Wethersfield’s Ancient Burying Ground. See the graves\, hear stories of those who met their end during Connecticut’s first mass murder\, and learn how gravestones warned the living of their own impending peril. The final stop on the tour is the Buttolph-Williams House (ca. 1711)\, the setting for the Newbery-winning children’s novel The Witch of Blackbird Pond by Elizabeth George Speare. Hear stories about the notorious Wethersfield Witch Trials\, which preceded the Salem Witch Trials by 30 years. The Buttolph-Williams House is a property of Connecticut Landmarks operated by the Webb Deane Stevens Museum. \nTour times: 10:30 a.m.\, 11:30 a.m.\, 12:30 p.m.\, 1:30 p.m.\, and 2:30 p.m. \nPURCHASE TICKETS HERE: Members $35 per person; Non-members $40 per person. \nTours are limited to groups of 16\, so reserve your tickets before they sell out! (October 25th Tour Times are Sold Out) \n*Please note: The Witches & Tombstones tour includes climbing stairs and walking on uneven ground. It is not recommended for youth under age 12.
URL:https://wdsmuseum.org/event/2786/
LOCATION:WDS Museum\, 211 Main Street\, Wethersfield\, CT\, 06109
CATEGORIES:Colonial History,Special Event,Spiritual and Spooky
ATTACH;FMTTYPE=image/png:https://wdsmuseum.org/wp-content/uploads/2025/07/Witches-Tombstones-Image-for-marketing-sans-text-1.png
ORGANIZER;CN="WDS Museum":MAILTO:info@wdsmuseum.org
END:VEVENT
BEGIN:VEVENT
DTSTART;TZID=America/New_York:20251016T180000
DTEND;TZID=America/New_York:20251016T203000
DTSTAMP:20260423T192051
CREATED:20250831T184647Z
LAST-MODIFIED:20251005T013305Z
UID:10000072-1760637600-1760646600@wdsmuseum.org
SUMMARY:SPECIAL EVENT | The Veil’s Whisper: An Evening of Tarot and the Occult
DESCRIPTION:With TR Revella-Hamilton and Karen Riccio of Solden Tarot. \nEmbrace the season of transformation as the veil grows thin. Join us for an enchanting evening exploring the mysteries of the occult and the ancient art of tarot reading. Discover the fascinating origins of occult practices before diving deep into hands-on tarot work with Solden creatrix Karen Riccio. \nLearn the sacred “Veil’s Whisper three-card spread for receiving wisdom\, restoring harmony\, and enhancing intuition – perfect for channeling autumn’s alchemical magic. Let the wisdom of the tarot guide you to a deeper understanding of your own magic\, embracing both light and shadow as pathways to self-discovery. \nBio | Karen Riccio is the creator of Solden\, a space for tarot\, mindfulness\, and soul connection. Her work weaves together tarot\, journaling\, and ritual to support mental health\, self-discovery\, and empowerment. With a warm and intuitive approach\, Karen helps others embrace both light and shadow as pathways to healing and self-trust. \nTickets: $30 General Admission | $25 Members \nEvent + Tarot Deck: $45 General Admission | $40 Members \n*Note: Participants will use the Rider-Waite Smith tarot deck to create their own individual spreads during \nthe event. You may bring your own deck. If you do not own this deck\, purchase the Event + Tarot Deck \nticket. \nDue to the intimate and hands-on nature of this event\, it is limited to 50 souls.
URL:https://wdsmuseum.org/event/special-event-the-veils-whisper-an-evening-of-tarot-and-the-occult/
LOCATION:WDS Museum\, 211 Main Street\, Wethersfield\, CT\, 06109
CATEGORIES:Special Event,Spiritual and Spooky
ATTACH;FMTTYPE=image/jpeg:https://wdsmuseum.org/wp-content/uploads/2025/08/jP41LiJVl2-s895x715-q90.jpg
END:VEVENT
BEGIN:VEVENT
DTSTART;TZID=America/New_York:20251011T100000
DTEND;TZID=America/New_York:20251011T110000
DTSTAMP:20260423T192051
CREATED:20250903T164955Z
LAST-MODIFIED:20251005T013113Z
UID:10000076-1760176800-1760180400@wdsmuseum.org
SUMMARY:CLASS | Saturday Morning Arts: Free-Movement Dance Class with The Hartford Dance Collective
DESCRIPTION:Join us one Saturday a month at 10 am to awaken your creativity and get you moving. Each month\, a choreographer from the Hartford Dance Collective will lead a free movement class designed to build curiosity\, strength\, range of motion and confidence in your own dance movement. Classes include warm-ups\, exercises in mobility\, and dynamic choreography phrasework. If you’ve been dancing all your life\, are a former dancer\, or have never danced before\, YOU ARE WELCOME HERE! \nMove your body freely in a supportive community\, surrounded by art and our beautiful Colonial Revival Garden. Want more? Stay after class for an open rehearsal and Q+A with the women of HDC. \nDates:  \nOct 11 \nNov 22 \nDec 13 \nJan 24 \nFeb 21 \nMar 21 \nApr 25 \nMay 16 \nTickets: \nClass Only: $20 \nClass + Historic House Tour: $38 \nClass + Open Rehearsal: $35 \nThe Hartford Dance Collective \nThe Hartford Dance Collective aims to empower women to have a voice and an equal opportunity in dance by providing choreographic and leadership opportunities. By sharing professional contemporary dance with new audiences and providing performances in diverse locations\, they work to bridge the gap between the arts and the community. Their studio space at Parkville Sounds in Hartford\, CT\, provides creatives with a home to hone in on their movement vocabulary\, and they hold the belief that everyone can dance and everyone should. www.thedancecollective.org
URL:https://wdsmuseum.org/event/class-saturday-morning-arts-contemporary-dance-class-with-the-hartford-dance-collective/
LOCATION:WDS Museum\, 211 Main Street\, Wethersfield\, CT\, 06109
CATEGORIES:Workshop,Special Event
ATTACH;FMTTYPE=image/png:https://wdsmuseum.org/wp-content/uploads/2025/09/Screenshot-2025-09-03-at-17-34-13-The-Hartford-Dance-Collective.png
ORGANIZER;CN="WDS Museum":MAILTO:info@wdsmuseum.org
END:VEVENT
BEGIN:VEVENT
DTSTART;TZID=America/New_York:20251002T183000
DTEND;TZID=America/New_York:20251002T203000
DTSTAMP:20260423T192051
CREATED:20250727T034548Z
LAST-MODIFIED:20250727T034748Z
UID:10000069-1759429800-1759437000@wdsmuseum.org
SUMMARY:SPECIAL EVENT | Scott Allan: An Evening of Spirit Messages
DESCRIPTION:An evening of Spirit Messages with Scott Allan \nThursday\, October 2\, 6-8:30 pm \nJoin us in the Webb Barn to look through the veil and receive messages from the other side. Scott Allan has seen grief from both sides. As a funeral director\, he helped families say goodbye. Now as an evidential medium featured on “Dark Echoes\,” he helps them reconnect. Expect real stories\, authentic moments\, and unexpected humor that makes the evening both moving and surprisingly enjoyable. \nWhat’s Included: \nMediumship Demonstration: Scott brings through heartfelt\, evidential messages from loved ones in Spirit.\nBook Signing & Sale: Pick up a signed copy of In the Presence of Light (with a foreword by Joseph P. Shiel III).\nVIP Meet & Greet/Q&A: VIP guests enjoy an exclusive post-event Q&A and time to connect personally with Scott.\nDoor Prizes & Surprises: A little extra magic for lucky guests! \nTickets: \nGeneral Admission: $40 (includes event and book signing)\nMembers: $35  (includes event and book signing)\nVIP Experience: $60 (includes upfront priority seating at the event\, book signing\, and exclusive post-event Q&A with Scott with special VIP Door Prizes! (Hint… someone will win a free reading!) \nPlease Note: \nNot everyone is guaranteed a personal reading\, but Scott aims to deliver as many messages as possible.\nEvent is for ages 16+.\nDoors open at 6:30 PM; seating is first-come\, first-served (except for VIP upfront priority seating).
URL:https://wdsmuseum.org/event/special-event-scott-allan-an-evening-of-spirit-messages/
LOCATION:WDS Museum\, 211 Main Street\, Wethersfield\, CT\, 06109
CATEGORIES:Performance,Lecture,Members,Special Event,Spiritual and Spooky
ATTACH;FMTTYPE=image/png:https://wdsmuseum.org/wp-content/uploads/2025/07/Simpletix_Scott-Allan.png
END:VEVENT
END:VCALENDAR