BEGIN:VCALENDAR
VERSION:2.0
PRODID:-//Webb Deane Stevens Museum - ECPv6.15.20//NONSGML v1.0//EN
CALSCALE:GREGORIAN
METHOD:PUBLISH
X-ORIGINAL-URL:https://wdsmuseum.org
X-WR-CALDESC:Events for Webb Deane Stevens Museum
REFRESH-INTERVAL;VALUE=DURATION:PT1H
X-Robots-Tag:noindex
X-PUBLISHED-TTL:PT1H
BEGIN:VTIMEZONE
TZID:America/New_York
BEGIN:DAYLIGHT
TZOFFSETFROM:-0500
TZOFFSETTO:-0400
TZNAME:EDT
DTSTART:20240310T070000
END:DAYLIGHT
BEGIN:STANDARD
TZOFFSETFROM:-0400
TZOFFSETTO:-0500
TZNAME:EST
DTSTART:20241103T060000
END:STANDARD
BEGIN:DAYLIGHT
TZOFFSETFROM:-0500
TZOFFSETTO:-0400
TZNAME:EDT
DTSTART:20250309T070000
END:DAYLIGHT
BEGIN:STANDARD
TZOFFSETFROM:-0400
TZOFFSETTO:-0500
TZNAME:EST
DTSTART:20251102T060000
END:STANDARD
BEGIN:DAYLIGHT
TZOFFSETFROM:-0500
TZOFFSETTO:-0400
TZNAME:EDT
DTSTART:20260308T070000
END:DAYLIGHT
BEGIN:STANDARD
TZOFFSETFROM:-0400
TZOFFSETTO:-0500
TZNAME:EST
DTSTART:20261101T060000
END:STANDARD
END:VTIMEZONE
BEGIN:VEVENT
DTSTART;TZID=America/New_York:20251205T170000
DTEND;TZID=America/New_York:20251205T203000
DTSTAMP:20260424T125459
CREATED:20251005T012712Z
LAST-MODIFIED:20251125T170136Z
UID:10000087-1764954000-1764966600@wdsmuseum.org
SUMMARY:PREVIEW PARTY | Homes for the Holidays
DESCRIPTION:Purchase Preview Party Tickets\nPreview Party: December 5\, 5:00-8:30 PM\nStep into the past and experience the holidays by candlelight’s soft glow. \nThis intimate evening preview begins in our stately Silas Deane House with seasonal bites and festive drinks. Enjoy merry music by the Connecticut Yuletide Carolers\, who will fill the halls with the bright sounds of the season. Then travel through time by candlelight on an exclusive tour of our three historic houses\, masterfully decorated for the season by renowned designers. You’ll have space to linger\, ask questions\, and savor every carefully curated detail before the public ever sets foot inside. It’s a rare chance to experience our homes at their most magical — intimate\, elegant\, and entirely yours for the evening. \nTickets\nPreview Party\, December 5: $125 \nPatron: $250 \nOne (1) ticket to December 5 Preview Party + one (1) ticket to December 6 Holiday House Tour. Acknowledgement in our printed materials. \nBenefactor: $500 \nTwo (2) tickets to December 5 Preview Party + two (2) tickets to December 6 Holiday House Tour. Acknowledgement in our printed materials. \nProceeds advance the NSCDA-CT’s mission of preservation and education at the Webb Deane Stevens Museum. \nDesigners \nMichael Zipp Interiors is a full service interior design firm located in Brooklyn and the Hudson Valley.  Founded in 2020\, we approach each and every project through a unique lens\, responding to the individual desires and needs of the client.  Preservation and respect of historic architecture are at the forefront of our practice. Michael Zipp is a 2025 recipient of the Frederic Magazine It List award and his own Upstate NY home is featured in the Autumn 2025 issue of Frederic Magazine. \nJames Coviello is an interior designer known for his distinctive work in vintage\, historic\, and period-style interiors. He is currently working on projects in Litchfield\, Connecticut; Lenox\, Massachusetts; NYC and The Lake District in the United Kingdom. \nHis design perspective—rooted in a deep appreciation for architectural history and curated\, character-driven spaces—is showcased on Instagram @james_coviello\, where he shares images of his Hudson Valley home\, Brooklyn Heights apartment\, and a range of historic private houses and museums. In addition to his interiors practice\, James sources and sells 19th-century furnishings and decorative objects. He also offers an eponymous product line of soaps\, candles\, and glassware available through select retailers and at jamescoviello.com. \nReliv Design curates inspired spaces across hospitality\, residential\, and commercial projects. Guided by a passion for creating spaces with soul\, we emphasize a collaborative and enjoyable design process. From color\, material\, and finish selections to specialty painting and full-scale projects\, we bring creativity and care to every size and style of work. \nReliv Design proudly represents Wise Owl Paints and maintains a retail space within Cottonwood & Church in idyllic Old Wethersfield. As a resident of OW and member of OSWA\, we are extremely proud of where we live\, raise a family and thrive as a community. \nJackie Home & Beauty  is a long-awaited project inspired by owner Victoria Oliviera’s aunt Jackie\, who embodied the definition of ‘influencer’ before social media made its debut. She was a lover of all things style\, design and beauty.  She owned a small women’s clothing boutique in West Hartford\, Artichoke\, where I had the pleasure of working and learning from her. Jackie Home & Beauty is a curated space with home and skincare products from around the world to share with you\, in honor of Jackie.
URL:https://wdsmuseum.org/event/preview-party-homes-for-the-holidays/
LOCATION:WDS Museum\, 211 Main Street\, Wethersfield\, CT\, 06109
CATEGORIES:Holiday Program,Members,Colonial History,Special Event
ATTACH;FMTTYPE=image/png:https://wdsmuseum.org/wp-content/uploads/2025/10/HFH-website-thumbnail_Preview-Party.png
ORGANIZER;CN="WDS Museum":MAILTO:info@wdsmuseum.org
END:VEVENT
BEGIN:VEVENT
DTSTART;TZID=America/New_York:20251206T100000
DTEND;TZID=America/New_York:20251206T150000
DTSTAMP:20260424T125459
CREATED:20251005T011656Z
LAST-MODIFIED:20251121T145910Z
UID:10000086-1765015200-1765033200@wdsmuseum.org
SUMMARY:SPECIAL TOUR | Homes for the Holidays
DESCRIPTION:Purchase Tour Tickets\nExperience the magic of Old Wethersfield during the most festive time of the year. \nThe National Society of The Colonial Dames of America in The State of Connecticut invites you to step inside beautifully decorated private homes\, lavish inns\, and the Webb Deane Stevens historic houses—exclusively featuring seasonal designs by internationally renowned decorators. Enjoy this rare chance to experience Old Wethersfield’s elegant interiors decked in holiday style. Warm up between houses with hot beverages and treats in the museum’s Holcombe Education Center in the heart of Old Wethersfield. \nStaying all day? Add a boxed lunch from Heirloom Market for a mid-tour repast overlooking our gardens. Purchase the Tour + Boxed Lunch ticket\, or the Boxed Lunch add-on if you have already purchased your tour ticket.  \nPreview Party: December 5\, 5:00 – 8:30 PM \nHoliday House Tour: December 6\, 10:00 AM – 3:00 PM \n  \nTickets\nHouse Tour\, December 6: $70 | $75 day-of \nGeneral admission includes open-house access to all homes. \nConsider becoming a Benefactor or Patron to increase your impact!  \nPatron: $250 \nOne (1) ticket to December 5 Preview Party + one (1) ticket to December 6 Holiday House Tour. Acknowledgement in our printed materials. \nBenefactor: $500 \nTwo (2) tickets to December 5 Preview Party + two (2) tickets to December 6 Holiday House Tour. Acknowledgement in our printed materials. \nProceeds advance the NSCDA-CT’s mission of preservation and education at the Webb Deane Stevens Museum. \n  \nDesigners \nMichael Zipp Interiors is a full service interior design firm located in Brooklyn and the Hudson Valley.  Founded in 2020\, we approach each and every project through a unique lens\, responding to the individual desires and needs of the client.  Preservation and respect of historic architecture are at the forefront of our practice. Michael Zipp is a 2025 recipient of the Frederic Magazine It List award and his own Upstate NY home is featured in the Autumn 2025 issue of Frederic Magazine. \nJames Coviello is an interior designer known for his distinctive work in vintage\, historic\, and period-style interiors. He is currently working on projects in Litchfield\, Connecticut; Lenox\, Massachusetts; NYC and The Lake District in the United Kingdom. \nHis design perspective—rooted in a deep appreciation for architectural history and curated\, character-driven spaces—is showcased on Instagram @james_coviello\, where he shares images of his Hudson Valley home\, Brooklyn Heights apartment\, and a range of historic private houses and museums. In addition to his interiors practice\, James sources and sells 19th-century furnishings and decorative objects. He also offers an eponymous product line of soaps\, candles\, and glassware available through select retailers and at jamescoviello.com. \nReliv Design curates inspired spaces across hospitality\, residential\, and commercial projects. Guided by a passion for creating spaces with soul\, we emphasize a collaborative and enjoyable design process. From color\, material\, and finish selections to specialty painting and full-scale projects\, we bring creativity and care to every size and style of work. \nReliv Design proudly represents Wise Owl Paints and maintains a retail space within Cottonwood & Church in idyllic Old Wethersfield. As a resident of OW and member of OSWA\, we are extremely proud of where we live\, raise a family and thrive as a community. \nJackie Home & Beauty  is a long-awaited project inspired by owner Victoria Oliviera’s aunt Jackie\, who embodied the definition of ‘influencer’ before social media made its debut. She was a lover of all things style\, design and beauty.  She owned a small women’s clothing boutique in West Hartford\, Artichoke\, where I had the pleasure of working and learning from her. Jackie Home & Beauty is a curated space with home and skincare products from around the world to share with you\, in honor of Jackie.
URL:https://wdsmuseum.org/event/special-tour-homes-for-the-holidays/
LOCATION:WDS Museum\, 211 Main Street\, Wethersfield\, CT\, 06109
CATEGORIES:Holiday Program,Members,Colonial History,Special Event
ATTACH;FMTTYPE=image/png:https://wdsmuseum.org/wp-content/uploads/2025/10/HFH-website-thumbnail_House-Tour.png
END:VEVENT
BEGIN:VEVENT
DTSTART;TZID=America/New_York:20251213T100000
DTEND;TZID=America/New_York:20251213T230000
DTSTAMP:20260424T125459
CREATED:20250910T183349Z
LAST-MODIFIED:20250910T183349Z
UID:10000079-1765620000-1765666800@wdsmuseum.org
SUMMARY:CLASS | Saturday Morning Arts: Free-Movement Dance Class with The Hartford Dance Collective
DESCRIPTION:Join us one Saturday a month at 10 am to awaken your creativity and get you moving. Each month\, a choreographer from the Hartford Dance Collective will lead a free movement class designed to build curiosity\, strength\, range of motion and confidence in your own dance movement. Classes include warm-ups\, exercises in mobility\, and dynamic choreography phrasework. If you’ve been dancing all your life\, are a former dancer\, or have never danced before\, YOU ARE WELCOME HERE! \nMove your body freely in a supportive community\, surrounded by art and our beautiful Colonial Revival Garden. Want more? Stay after class for an open rehearsal and Q+A with the women of HDC. \nUpcoming Dates:  \nDec 13 \nJan 24 \nFeb 21 \nMar 21 \nApr 25 \nMay 16 \nTickets: \nClass Only: $20 \nClass + Historic House Tour: $38 \nClass + Open Rehearsal: $35 \nThe Hartford Dance Collective \nThe Hartford Dance Collective aims to empower women to have a voice and an equal opportunity in dance by providing choreographic and leadership opportunities. By sharing professional contemporary dance with new audiences and providing performances in diverse locations\, they work to bridge the gap between the arts and the community. Their studio space at Parkville Sounds in Hartford\, CT\, provides creatives with a home to hone in on their movement vocabulary\, and they hold the belief that everyone can dance and everyone should. www.thedancecollective.org
URL:https://wdsmuseum.org/event/class-saturday-morning-arts-free-movement-dance-class-with-the-hartford-dance-collective-2/
LOCATION:WDS Museum\, 211 Main Street\, Wethersfield\, CT\, 06109
CATEGORIES:Workshop,Special Event
ATTACH;FMTTYPE=image/png:https://wdsmuseum.org/wp-content/uploads/2025/09/HDC6.png
END:VEVENT
BEGIN:VEVENT
DTSTART;TZID=America/New_York:20251219T180000
DTEND;TZID=America/New_York:20251219T210000
DTSTAMP:20260424T125459
CREATED:20251109T195922Z
LAST-MODIFIED:20251216T150613Z
UID:10000091-1766167200-1766178000@wdsmuseum.org
SUMMARY:Holiday Candlelight Tours
DESCRIPTION:Candlelight Tour Tickets \nExperience Christmas in our historic houses\, beautifully lit in the evenings for two weekends in December. Delight in a charming array of holiday decor both historic and contemporary\, including Christmas trees\, greenery\, handmade treasures\, antique toys\, enchanting period ornaments\, and modern holiday design. \nFeel the tingle and excitement of this most wonderful time of the year as you explore rooms transformed by interior designers and decorators showcasing both traditional and fanciful decor. \nThe Museum Gift Shop will also be open both evenings. Shop a wide array of fabulous holiday treasures\, including books\, ornaments\, candles\, children’s toys\, handcrafted treasures\, and hostess gifts. \nTours will be held at 6\, 7\, and 8 PM on each date. Groups are limited to 12. Tours include walking and stair climbing\, and are appropriate for adults and children 13+. NSCDA-CT and WDS Museum members: $30 / General Public: $35. Don’t delay\, as tickets are sure to sell out! Pre-registration is required. Tickets for this event are non-refundable.
URL:https://wdsmuseum.org/event/holiday-candlelight-tours-3/
CATEGORIES:Holiday Program,Members,Antiques & Collectibles,Colonial History,Special Event
ATTACH;FMTTYPE=image/png:https://wdsmuseum.org/wp-content/uploads/2025/11/Tours-by-Candlelight-2025-1-Tours-by-Candlelight-2024-1.png
END:VEVENT
BEGIN:VEVENT
DTSTART;TZID=America/New_York:20251220T180000
DTEND;TZID=America/New_York:20251220T210000
DTSTAMP:20260424T125459
CREATED:20251109T200648Z
LAST-MODIFIED:20251216T150426Z
UID:10000092-1766253600-1766264400@wdsmuseum.org
SUMMARY:Holiday Candlelight Tours
DESCRIPTION:Candlelight Tour Tickets \nExperience Christmas in our historic houses\, beautifully lit in the evenings for two weekends in December. Delight in a charming array of holiday decor both historic and contemporary\, including Christmas trees\, greenery\, handmade treasures\, antique toys\, enchanting period ornaments\, and modern holiday design. \nFeel the tingle and excitement of this most wonderful time of the year as you explore rooms transformed by interior designers and decorators showcasing both traditional and fanciful decor. \nThe Museum Gift Shop will also be open both evenings. Shop a wide array of fabulous holiday treasures\, including books\, ornaments\, candles\, children’s toys\, handcrafted treasures\, and hostess gifts. \nTours will be held at 6\, 7\, and 8 P.M. on each date. Groups are limited to 12. Tours include walking and stair climbing\, and are appropriate for adults and children 13+. NSCDA-CT and WDS Museum members: $30 / General Public: $35. Don’t delay\, as tickets are sure to sell out! Pre-registration is required. Tickets for this event are non-refundable.
URL:https://wdsmuseum.org/event/holiday-candlelight-tours-4/
CATEGORIES:Holiday Program,Members,Antiques & Collectibles,Colonial History,Special Event
ATTACH;FMTTYPE=image/png:https://wdsmuseum.org/wp-content/uploads/2025/11/Tours-by-Candlelight-2025-1-Tours-by-Candlelight-2024-1.png
END:VEVENT
END:VCALENDAR