BEGIN:VCALENDAR
VERSION:2.0
PRODID:-//Webb Deane Stevens Museum - ECPv6.15.20//NONSGML v1.0//EN
CALSCALE:GREGORIAN
METHOD:PUBLISH
X-WR-CALNAME:Webb Deane Stevens Museum
X-ORIGINAL-URL:https://wdsmuseum.org
X-WR-CALDESC:Events for Webb Deane Stevens Museum
REFRESH-INTERVAL;VALUE=DURATION:PT1H
X-Robots-Tag:noindex
X-PUBLISHED-TTL:PT1H
BEGIN:VTIMEZONE
TZID:America/New_York
BEGIN:DAYLIGHT
TZOFFSETFROM:-0500
TZOFFSETTO:-0400
TZNAME:EDT
DTSTART:20240310T070000
END:DAYLIGHT
BEGIN:STANDARD
TZOFFSETFROM:-0400
TZOFFSETTO:-0500
TZNAME:EST
DTSTART:20241103T060000
END:STANDARD
BEGIN:DAYLIGHT
TZOFFSETFROM:-0500
TZOFFSETTO:-0400
TZNAME:EDT
DTSTART:20250309T070000
END:DAYLIGHT
BEGIN:STANDARD
TZOFFSETFROM:-0400
TZOFFSETTO:-0500
TZNAME:EST
DTSTART:20251102T060000
END:STANDARD
BEGIN:DAYLIGHT
TZOFFSETFROM:-0500
TZOFFSETTO:-0400
TZNAME:EDT
DTSTART:20260308T070000
END:DAYLIGHT
BEGIN:STANDARD
TZOFFSETFROM:-0400
TZOFFSETTO:-0500
TZNAME:EST
DTSTART:20261101T060000
END:STANDARD
END:VTIMEZONE
BEGIN:VEVENT
DTSTART;TZID=America/New_York:20251023T120000
DTEND;TZID=America/New_York:20251023T133000
DTSTAMP:20260424T221220
CREATED:20250831T193806Z
LAST-MODIFIED:20250919T162251Z
UID:10000073-1761220800-1761226200@wdsmuseum.org
SUMMARY:VIRTUAL LECTURE | The Ruin of All Witches: Fear\, Fury & False Accusations With Dr. Malcolm Gaskill
DESCRIPTION:VIRTUAL LECTURE | The Ruin of All Witches: Fear\, Fury & False Accusations With Dr. Malcolm Gaskill \nThursday\, October 23\, 12 pm \nThis is a virtual lecture. Zoom link will be provided in advance of the event.  \nWDS Director of Preservation & Collections TR Hamilton and distinguished historian Dr. Malcolm Gaskill moderate a group discussion looking at the process through which Dr. Gaskill came to write his 2022 work “A Ruin of All Witches: Life and Death in the New World”.  Gaskill’s work utilizes previously unexplored sources to examine 17th-century New England witchcraft trials through the lens of one specific Connecticut River Valley community in 1651. Attendees are encouraged to participate and come ready with questions. \nTickets: Members $10 | General Admission $15 | Book Club Members Free \n  \nBio | Malcolm Gaskill is Emeritus Professor of Early Modern History at the University of East Anglia\, specializing in the social and cultural history of 17th-century England and America\, particularly the history of witchcraft. \nHe is the author of six books\, including Between Two Worlds: How the English Became Americans\, Witchfinders: A Seventeenth-Century English Tragedy and Hellish Nell: Last of Britain’s Witches\, a biography of the spiritualist medium Helen Duncan\, the last woman imprisoned under the Witchcraft Act in 1944. \nHis most recent book is The Ruin of all Witches: Life and Death in the New World\, the story of a witch-panic in a New England frontier town\, published by Penguin\, Allen Lane. \nHe is also interested in war and memory in the twentieth century\, about which he has written about for the TLS and London Review of Books. This is also a key theme of Hellish Nell\, a revised edition of which is underway.
URL:https://wdsmuseum.org/event/virtual-lecture-the-ruin-of-all-witches-fear-fury-false-accusations-with-dr-malcolm-gaskill/
LOCATION:Zoom\, Virtual Event\, Zoom link provided
CATEGORIES:Lecture,Colonial History,Spiritual and Spooky
ATTACH;FMTTYPE=image/jpeg:https://wdsmuseum.org/wp-content/uploads/2025/08/malcolm_gaskilljpg.jpg
END:VEVENT
END:VCALENDAR