BEGIN:VCALENDAR
VERSION:2.0
PRODID:-//Webb Deane Stevens Museum - ECPv6.15.20//NONSGML v1.0//EN
CALSCALE:GREGORIAN
METHOD:PUBLISH
X-WR-CALNAME:Webb Deane Stevens Museum
X-ORIGINAL-URL:https://wdsmuseum.org
X-WR-CALDESC:Events for Webb Deane Stevens Museum
REFRESH-INTERVAL;VALUE=DURATION:PT1H
X-Robots-Tag:noindex
X-PUBLISHED-TTL:PT1H
BEGIN:VTIMEZONE
TZID:America/New_York
BEGIN:DAYLIGHT
TZOFFSETFROM:-0500
TZOFFSETTO:-0400
TZNAME:EDT
DTSTART:20240310T070000
END:DAYLIGHT
BEGIN:STANDARD
TZOFFSETFROM:-0400
TZOFFSETTO:-0500
TZNAME:EST
DTSTART:20241103T060000
END:STANDARD
BEGIN:DAYLIGHT
TZOFFSETFROM:-0500
TZOFFSETTO:-0400
TZNAME:EDT
DTSTART:20250309T070000
END:DAYLIGHT
BEGIN:STANDARD
TZOFFSETFROM:-0400
TZOFFSETTO:-0500
TZNAME:EST
DTSTART:20251102T060000
END:STANDARD
BEGIN:DAYLIGHT
TZOFFSETFROM:-0500
TZOFFSETTO:-0400
TZNAME:EDT
DTSTART:20260308T070000
END:DAYLIGHT
BEGIN:STANDARD
TZOFFSETFROM:-0400
TZOFFSETTO:-0500
TZNAME:EST
DTSTART:20261101T060000
END:STANDARD
END:VTIMEZONE
BEGIN:VEVENT
DTSTART;TZID=America/New_York:20250115T183000
DTEND;TZID=America/New_York:20250115T200000
DTSTAMP:20260425T183513
CREATED:20250131T163656Z
LAST-MODIFIED:20250131T163656Z
UID:10000049-1736965800-1736971200@wdsmuseum.org
SUMMARY:The Loyalist Legacy: Martha Codman Karolik's Ancestry\, Collecting\, and Nationalism
DESCRIPTION:Discover how one prominent New England woman’s look at her family history was entangled with gender\, nationalism\, race\, memory\, and the Colonial Revival. Historian MaryKate Smolenski examines how and why loyalism to the Crown\, which divided families and communities during the American Revolution\, was edited out of the picture in the 1920s.\nMartha Codman Karolik (1858-1948) is best known for her and her husband’s significant donations to the Museum of Fine Arts\, Boston. Prior to her marriage\, Codman’s early collecting focused on her ancestors; she was deeply interested in her family history and also joined lineage-based societies\, including NSCDA. Codman was intrigued by one particular ancestor: Katherine Greene Amory (1731-1777)\, a Revolutionary-era loyalist from Boston. Codman owned several Amory objects\, including portraits by John Singleton Copley. In 1923\, Martha published Amory’s journal\, but deliberately edited the publication to create a family narrative that omitted loyalism. \nCodman left a legacy\, through print and material culture\, that misrepresents the complexity of the Revolution\, but also reflected Martha’s twentieth-century interests. Martha’s story\, and the one she told about her family\, is entangled in the history of gender\, nationalism\, race\, the Colonial Revival\, and memory. Examining Codman’s narrative reveals how our understanding of eighteenth-century history and artifacts were shaped by later eras. \nBIO \nMaryKate Smolenski is a PhD candidate in American Studies at Boston University. She studies the memory of the American Revolution through print and material culture\, and is particularly interested in how descendants of Revolutionary-era loyalists remember their ancestors. Smolenski has previously worked with several museums and historical societies\, including the Newport Historical Society\, History Cambridge\, and the GWU Museum and Textile Museum. Prior to starting her PhD\, she completed a two-year fellowship at the Preservation Society of Newport County where she re-interpreted an eighteenth-century historic house museum\, Hunter House. \n  \nVIRTUAL LECTURE: 6:30 pm \nJoin us from the comfort of your home. This is a VIRTUAL event. Registrants will receive a Zoom link prior to the event. \n  \nThis program is part of Common Ground in a Fractured Nation: Dialogues on the Past and Future of American Democracy\, a new series that uses Historic Wethersfield’s distinctive colonial past to help people see and empathize with one another as we approach America’s 250th anniversary.
URL:https://wdsmuseum.org/event/the-loyalist-legacy-martha-codman-karoliks-ancestry-collecting-and-nationalism/
LOCATION:WDS Museum\, 211 Main Street\, Wethersfield\, CT\, 06109
CATEGORIES:Lecture
ATTACH;FMTTYPE=image/png:https://wdsmuseum.org/wp-content/uploads/2024/09/Untitled-2.png
END:VEVENT
END:VCALENDAR