BEGIN:VCALENDAR
VERSION:2.0
PRODID:-//Webb Deane Stevens Museum - ECPv6.15.20//NONSGML v1.0//EN
CALSCALE:GREGORIAN
METHOD:PUBLISH
X-ORIGINAL-URL:https://wdsmuseum.org
X-WR-CALDESC:Events for Webb Deane Stevens Museum
REFRESH-INTERVAL;VALUE=DURATION:PT1H
X-Robots-Tag:noindex
X-PUBLISHED-TTL:PT1H
BEGIN:VTIMEZONE
TZID:America/New_York
BEGIN:DAYLIGHT
TZOFFSETFROM:-0500
TZOFFSETTO:-0400
TZNAME:EDT
DTSTART:20220313T070000
END:DAYLIGHT
BEGIN:STANDARD
TZOFFSETFROM:-0400
TZOFFSETTO:-0500
TZNAME:EST
DTSTART:20221106T060000
END:STANDARD
BEGIN:DAYLIGHT
TZOFFSETFROM:-0500
TZOFFSETTO:-0400
TZNAME:EDT
DTSTART:20230312T070000
END:DAYLIGHT
BEGIN:STANDARD
TZOFFSETFROM:-0400
TZOFFSETTO:-0500
TZNAME:EST
DTSTART:20231105T060000
END:STANDARD
BEGIN:DAYLIGHT
TZOFFSETFROM:-0500
TZOFFSETTO:-0400
TZNAME:EDT
DTSTART:20240310T070000
END:DAYLIGHT
BEGIN:STANDARD
TZOFFSETFROM:-0400
TZOFFSETTO:-0500
TZNAME:EST
DTSTART:20241103T060000
END:STANDARD
BEGIN:DAYLIGHT
TZOFFSETFROM:-0500
TZOFFSETTO:-0400
TZNAME:EDT
DTSTART:20250309T070000
END:DAYLIGHT
BEGIN:STANDARD
TZOFFSETFROM:-0400
TZOFFSETTO:-0500
TZNAME:EST
DTSTART:20251102T060000
END:STANDARD
END:VTIMEZONE
BEGIN:VEVENT
DTSTART;TZID=America/New_York:20240417T183000
DTEND;TZID=America/New_York:20240417T200000
DTSTAMP:20260423T180403
CREATED:20240313T151854Z
LAST-MODIFIED:20240313T151953Z
UID:10000043-1713378600-1713384000@wdsmuseum.org
SUMMARY:Expansion and Inspiration: Recent Acquisitions to the Winterthur Collection
DESCRIPTION:Alexandra Deutsch\, John L. and Marjorie P. McGraw Director of Collections at the Winterthur Museum\, Garden & Library\, will speak about recent acquisitions and the ways in which collecting there has evolved while remaining anchored in Henry Francis du Pont’s legacy. Alexandra oversees the mansion’s 175 museum rooms and adjacent galleries\, along with the world’s largest and most celebrated collection of American decorative arts. \nJoin us at 6 p.m. for a complimentary reception. The program will begin at 6:30 p.m. \nNSCDA-CT and Museum Members: $15 / General Public: $20. Register HERE. \nAbout the Presenter: \nAlexandra Deutsch\, a graduate of Vassar College and the Winterthur Program in American Material Culture\, is the John L. and Marjorie P. McGraw Director of Collections at the Winterthur Museum. She leads Winterthur’s Collections and Interpretation Division. Prior to arriving at Winterthur in 2019\, she was Vice-President of Collections and Interpretation and Chief Curator at the Maryland Center for History and Culture\, formerly the Maryland Historical Society. \nHer tenure at the Maryland Center for History and Culture was distinguished by nationally recognized exhibitions that included In Full Glory Reflected: Maryland and the War of 1812\, Woman of Two Worlds: Elizabeth Patterson Bonaparte and Her Quest for an Imperial Legacy\, and Spectrum of Fashion. From 2010 until 2019\, she worked to establish the Fashion Archives\, now named the Barbara P. Katz Fashion Archives at the Maryland Center for History and Culture. Since arriving at Winterthur\, she has spearheaded a re-envisioning of the museum’s gallery building and led multiple exhibitions\, including Outside In: Nature-inspired Design at Winterthur (2020)\, Jacqueline Kennedy and Henry Francis du Pont: From Winterthur to the White House (2022)\, Ann Lowe\, American Couturier (2023) and is currently curating a major reinstallation of the permanent collections on view in Winterthur’s galleries. \nHer publications include Ann Lowe\, American Couturier (2023)\, Spectrum of Fashion (2019)\, Structure and Perspective: David Brewster Explores Maryland’s Social Landscape (2017) and Woman of Two Worlds: Elizabeth Patterson Bonaparte (2016). She has written and lectured about diverse topics in American material culture throughout her career with a particular emphasis on women’s and fashion history.
URL:https://wdsmuseum.org/event/expansion-and-inspiration-recent-acquisitions-to-the-winterthur-collection/
LOCATION:WDS Museum\, 211 Main Street\, Wethersfield\, CT\, 06109
CATEGORIES:Lecture,Members,Antiques & Collectibles
ATTACH;FMTTYPE=image/jpeg:https://wdsmuseum.org/wp-content/uploads/2024/03/winterthur.jpg
ORGANIZER;CN="WDS Museum":MAILTO:info@wdsmuseum.org
END:VEVENT
BEGIN:VEVENT
DTSTART;TZID=America/New_York:20231026T183000
DTEND;TZID=America/New_York:20231026T200000
DTSTAMP:20260423T180403
CREATED:20230808T180339Z
LAST-MODIFIED:20231025T234415Z
UID:10000032-1698345000-1698350400@wdsmuseum.org
SUMMARY:The Alchemy of Justice: John Winthrop\, Jr.\, and New England’s Other Witch: Presented by Walt Woodward
DESCRIPTION:THIS EVENT IS SOLD OUT. THANK YOU FOR YOUR INTEREST. \nBefore Salem\, Connecticut colony was New England’s most aggressive prosecutor of witches. That was before John Winthrop Jr.\, renowned alchemist\, and himself an occult practitioner\, became involved in the colony’s witchcraft cases. His careful – but forceful – intervention in the case of Wethersfield’s Katherine Harrison transformed Connecticut from New England’s most aggressive killer of witches to a colony that ended witchcraft executions a generation before Salem. \nReception: 6 pm / Program: 6:30 – 8:00 pm. \nAbout Walt Woodward \nWalt Woodward is the Connecticut State Historian Emeritus and an Associate Professor of Early American History at the University of Connecticut. He teaches American Environmental History\, Public History\, and an honors American Studies course focused on the Connecticut River\, as well as courses in Connecticut history. He is the author of Prospero’s America: John Winthrop\, Jr.\, Alchemy and the Creation of New England Culture\, numerous articles on New England history\, and is a regular columnist for Connecticut Explored magazine. A former hit country music songwriter and performer\, Woodward’s knowledge\, sense of humor\, and richly illustrated PowerPoint presentations have made him one of New England’s most sought-after public lecturers.
URL:https://wdsmuseum.org/event/the-alchemy-of-justice-john-winthrop-jr-and-new-englands-other-witch-presented-by-walt-woodward/
LOCATION:WDS Museum\, 211 Main Street\, Wethersfield\, CT\, 06109
CATEGORIES:Lecture
ATTACH;FMTTYPE=image/png:https://wdsmuseum.org/wp-content/uploads/2023/08/woodward-website-october.png
ORGANIZER;CN="WDS Museum":MAILTO:info@wdsmuseum.org
END:VEVENT
BEGIN:VEVENT
DTSTART;TZID=America/New_York:20231005T183000
DTEND;TZID=America/New_York:20231005T200000
DTSTAMP:20260423T180403
CREATED:20230808T170357Z
LAST-MODIFIED:20230929T234906Z
UID:10000029-1696530600-1696536000@wdsmuseum.org
SUMMARY:The Witch in Old Connecticut: Righting a Troublesome Legacy
DESCRIPTION:THANK YOU FOR YOUR INTEREST IN THIS EVENT. IT IS NOW SOLD OUT. \nThe Witch in Old Connecticut: Righting a Troublesome Legacy will touch upon Dr. Richard S. Ross III’s book Before Salem: Witch Hunting in the Connecticut River Valley 1647-1663. Dr. Ross will also discuss his additional research and the contemporary events affecting the historical legacy of the witch panic in the Connecticut and New Haven colonies. \nReception:  6 p.m./ Program: 6:30 – 8:00 p.m. \nAbout Dr. Richard S. Ross III \nDr. Richard S. Ross is Professor Emeritus and former College Librarian at Trinity College\, Hartford Connecticut. He holds an MA from Northeastern University\, an MLS from Simmons College\, and a PhD from Boston College. He has taught at Boston College\, Northeastern University\, the University of New Hampshire\, and Trinity College. He has held administrative Librarian positions at Northeastern University\, the University of Massachusetts at Lowell\, the University of New Hampshire\, and Georgetown University. \nDr. Ross has given talks throughout Connecticut for various organizations\, particularly libraries and historical association on Before Salem: Witch Hunting in the Connecticut River Valley 1647-1663\, his second published book. His first book was the well-reviewed Contagion in Prussia\, 1831 the Cholera Epidemic and the Threat of the Polish Uprising. Dr. Ross recently wrote a brochure based on original research for the Ancient Burying Ground Association in Hartford entitled\, Connecticut Colony Seventeenth-Century Witch Panic: A Guide to Connected Persons Interred in Hartford’s Ancient Burying Ground 2022. Additionally\, he has a third book in press: Body Snatching in Nineteenth Century New England and the Nation’s Capital\, a Social History.
URL:https://wdsmuseum.org/event/the-witch-in-old-connecticut-righting-a-troublesome-legacy/
LOCATION:WDS Museum\, 211 Main Street\, Wethersfield\, CT\, 06109
CATEGORIES:Lecture
ATTACH;FMTTYPE=image/png:https://wdsmuseum.org/wp-content/uploads/2023/08/ROSS-WEBSITE-OCTOBER.png
ORGANIZER;CN="WDS Museum":MAILTO:info@wdsmuseum.org
END:VEVENT
BEGIN:VEVENT
DTSTART;TZID=America/New_York:20230921T180000
DTEND;TZID=America/New_York:20230921T200000
DTSTAMP:20260423T180403
CREATED:20230817T141737Z
LAST-MODIFIED:20230918T151110Z
UID:10000035-1695319200-1695326400@wdsmuseum.org
SUMMARY:The Curious Case of Silas Deane
DESCRIPTION:You’ve heard the story of the Founding Fathers and the American Revolution time and again\, but what do you know about Wethersfield’s Silas Deane? For more than two centuries\, Deane’s reputation has been clouded by allegations of malfeasance and profiteering at the expense of the Continental Congress. Many called him a traitor. But what if everything you think you know about Silas Deane is wrong? This fascinating discussion\, led by Dr. Susan Holly\, Senior Historian with the U.S. Department of State’s Office of the Historian\, will dispel the mystery. Dr. Holly’s presentation will be followed by an open discussion moderated by State Historian Emeritus and Webb Deane Stevens Museum Scholar-in-Residence Dr. Walter W. Woodward. \nReception: 5:30 pm / Program: 6-8 pm. Get tickets here. The program will be held in the Webb Barn\, located at the rear of the Museum campus. \nThe Curious Case of Silas Deane is underwritten by the U.S. Department of State and The Society of the Cincinnati in the State of Connecticut. \nAbout Dr. Susan Holly \nDr. Susan Holly is a senior historian with the United States Department of State’s Office of the Historian and has been researching the origins of early American diplomacy for a new documentary compilation scheduled for release in 2026. She previously served as executive producer for a DVD and curriculum series on various topics in diplomacy for high school audiences\, wrote a short history of U.S.-China relations and other materials for the opening of the new U.S. Embassy in Beijing\, compiled volumes on Global Issues and a retrospective history on the Eisenhower era coup in Guatemala for the Foreign Relations of the United States. Before joining the office\, she served in the Bureau of Public Affairs as an editor\, speechwriter\, and Department spokesperson for several international delegations. \nDr. Holly earned degrees in history and journalism from Marquette University\, followed by a M.A. and Ph.D. from the University of Essex in the United Kingdom. Other publications include a book on the Iran-Iraq War for Lloyd’s of London Press\, as well as numerous newspaper articles. Her resume also includes participation in an elephant race\, where she learned elephants could run fast.
URL:https://wdsmuseum.org/event/the-curious-case-of-silas-deane/
LOCATION:WDS Museum\, 211 Main Street\, Wethersfield\, CT\, 06109
CATEGORIES:Lecture
ATTACH;FMTTYPE=image/png:https://wdsmuseum.org/wp-content/uploads/2023/08/DEANE-EVENT-website.png
ORGANIZER;CN="WDS Museum":MAILTO:info@wdsmuseum.org
END:VEVENT
END:VCALENDAR