BEGIN:VCALENDAR
VERSION:2.0
PRODID:-//Webb Deane Stevens Museum - ECPv6.15.20//NONSGML v1.0//EN
CALSCALE:GREGORIAN
METHOD:PUBLISH
X-ORIGINAL-URL:https://wdsmuseum.org
X-WR-CALDESC:Events for Webb Deane Stevens Museum
REFRESH-INTERVAL;VALUE=DURATION:PT1H
X-Robots-Tag:noindex
X-PUBLISHED-TTL:PT1H
BEGIN:VTIMEZONE
TZID:America/New_York
BEGIN:DAYLIGHT
TZOFFSETFROM:-0500
TZOFFSETTO:-0400
TZNAME:EDT
DTSTART:20250309T070000
END:DAYLIGHT
BEGIN:STANDARD
TZOFFSETFROM:-0400
TZOFFSETTO:-0500
TZNAME:EST
DTSTART:20251102T060000
END:STANDARD
BEGIN:DAYLIGHT
TZOFFSETFROM:-0500
TZOFFSETTO:-0400
TZNAME:EDT
DTSTART:20260308T070000
END:DAYLIGHT
BEGIN:STANDARD
TZOFFSETFROM:-0400
TZOFFSETTO:-0500
TZNAME:EST
DTSTART:20261101T060000
END:STANDARD
BEGIN:DAYLIGHT
TZOFFSETFROM:-0500
TZOFFSETTO:-0400
TZNAME:EDT
DTSTART:20270314T070000
END:DAYLIGHT
BEGIN:STANDARD
TZOFFSETFROM:-0400
TZOFFSETTO:-0500
TZNAME:EST
DTSTART:20271107T060000
END:STANDARD
END:VTIMEZONE
BEGIN:VEVENT
DTSTART;TZID=America/New_York:20260312T190000
DTEND;TZID=America/New_York:20260312T210000
DTSTAMP:20260423T180744
CREATED:20260122T193551Z
LAST-MODIFIED:20260309T173254Z
UID:10000094-1773342000-1773349200@wdsmuseum.org
SUMMARY:LECTURE | Beyond Blue and White: The Hidden Women of Delftware
DESCRIPTION:Beyond Blue and White: The Hidden Women of Delftware\nWDS Book Talk with Genevieve Wheeler Brown \nThursday\, March 12\, 7:00 PM \nThis lecture is offered in person and via ZOOM. Please purchase virtual tickets prior to 4:00 PM on the day of the lecture to ensure you receive the link.  \nPurchase Tickets\n  \nWhen over seventy-five pieces of rare Delftware were discovered in a historic Manhattan townhouse\, decorative art expert Genevieve Wheeler Brown recognized these exquisite ceramics held secrets overlooked for centuries. Join us for an illustrated journey through the hidden history of this beloved art form and the remarkable women who shaped it. \nThrough vivid images of 17th and 18th century treasures—puzzle jugs\, flower pyramids\, Persian blue teapots\, and ornate tiles—Brown reveals the stories of female factory owners like Barbara Rotteveel\, who founded “The Three Bells” in 1671\, and royal patron Queen Mary II\, whose passion for blue and white ceramics sparked a decorative revolution. Discover how pioneering American collectors Mrs. J. Pierpont Morgan and Mrs. Cornelius Vanderbilt II laid the groundwork for women in museums while preserving decorative arts for future generations. \nPart art history\, part detective story\, this presentation celebrates the artistry and forceful female lives behind one of the world’s most coveted ceramics. \nTickets: $15 | $12.50 Virtual | $10 Members \nThis lecture will be offered in person and via Zoom. \n*Zoom link will be provided in advance of the lecture. \nAbout the Author: As a decorative art advisor and writer with over thirty years in the art world\, including a decade with Christie’s in New York and London\, Genevieve Wheeler Brown has been actively involved in the community of Delftware. She has also participated on the Antiques Roadshow as an appraiser with an eye out for overlooked “treasure.” In her role\, she has held innumerable objects\, from fake Stradivari violins to gold-mounted Faberge eggs\, considering their value but also the stories they can tell. Beyond Blue and White has been named an NPR Here & Now Editors’ Pick!\, The Art Newspaper‘s Book Bag Selection and recently received glowing reviews by the Magazine ANTIQUES and The Wall Street Journal. \n 
URL:https://wdsmuseum.org/event/lecture-beyond-blue-and-white-the-hidden-women-of-delftware/
LOCATION:WDS Museum\, 211 Main Street\, Wethersfield\, CT\, 06109
CATEGORIES:Learning Series,Lecture,Members,Antiques & Collectibles,Book Club
ATTACH;FMTTYPE=image/jpeg:https://wdsmuseum.org/wp-content/uploads/2026/01/20-Peacock-dish-scaled.jpg
END:VEVENT
BEGIN:VEVENT
DTSTART;TZID=America/New_York:20260414T180000
DTEND;TZID=America/New_York:20260414T200000
DTSTAMP:20260423T180744
CREATED:20260209T121126Z
LAST-MODIFIED:20260217T020807Z
UID:10000096-1776189600-1776196800@wdsmuseum.org
SUMMARY:WDS BOOK CLUB | Life Along The Hudson: The Historic Country Estates of the Livingston Family
DESCRIPTION:Calling all bookworms\, history buffs\, preservationists and culture mavens! Join us for our NEW year-long book club\, accompanied by a lecture series with acclaimed authors.\nThis month we’re reading:  \nLife Along The Hudson: The Historic Country Estates of the Livingston Family\nBy Pieter Estersohn \nTuesday\, April 14\, 6 pm | In Person and Virtual \nModerated by TR Revella-Hamilton\, WDS Director of Preservation & Collections \nMeet fellow history enthusiasts in person as we discuss thought-provoking books by acclaimed authors. Our carefully curated monthly selections delve into the rich tapestry of American and European history\, featuring compelling works about revolutionary figures\, historic preservation\, decorative arts\, and stories that shaped our cultural landscape. Whether you’re a seasoned historian\, preservation enthusiast\, or simply curious about the stories behind our built heritage\, there’s a place for you in our community of learners. \nJOIN BOOK CLUB \n\nHow it Works: Book Club meets bimonthly at the Museum and via Zoom on the second Tuesday of each designated month\, unless otherwise noted. Book Club members will receive the newest book title via email two months prior to the book club date. You may join Book Club at any point during the year. Come when you can – there is no penalty for missing a session. \nBook Club 2026 “Library Card” Annual Fee*: $25 General | $20 Museum Members | $15 Students \nYour Book Club Library Card entitles you to in-person and virtual Book Club sessions\, as well as discounted admission to the accompanying Book Talks lecture series held on Thursdays at the Museum.
URL:https://wdsmuseum.org/event/wds-book-club-life-along-the-hudson-the-historic-country-estates-of-the-livingston-family/
LOCATION:WDS Museum\, 211 Main Street\, Wethersfield\, CT\, 06109
CATEGORIES:Learning Series,Members,Book Club
ATTACH;FMTTYPE=image/png:https://wdsmuseum.org/wp-content/uploads/2026/02/Book-Club-Website-Banner.png
END:VEVENT
BEGIN:VEVENT
DTSTART;TZID=America/New_York:20260609T180000
DTEND;TZID=America/New_York:20260609T200000
DTSTAMP:20260423T180744
CREATED:20260209T121555Z
LAST-MODIFIED:20260217T022813Z
UID:10000097-1781028000-1781035200@wdsmuseum.org
SUMMARY:WDS BOOK CLUB | The Great Contradiction: The Tragic Side of the American Founding
DESCRIPTION:Calling all bookworms\, history buffs\, preservationists and culture mavens! Join us for our NEW year-long book club\, accompanied by a lecture series with acclaimed authors.\nThis month we’re reading:  \nThe Great Contradiction: The Tragic Side of the American Founding\nBy Joseph Ellis\n(Available on audible) \nTuesday\, June 9\, 6 pm | In Person and Virtual \nModerated by TR Revella-Hamilton\, WDS Director of Preservation & Collections \nMeet fellow history enthusiasts in person as we discuss thought-provoking books by acclaimed authors. Our carefully curated monthly selections delve into the rich tapestry of American and European history\, featuring compelling works about revolutionary figures\, historic preservation\, decorative arts\, and stories that shaped our cultural landscape. Whether you’re a seasoned historian\, preservation enthusiast\, or simply curious about the stories behind our built heritage\, there’s a place for you in our community of learners. \nJOIN BOOK CLUB \n\nHow it Works: Book Club meets bimonthly at the Museum and via Zoom on the second Tuesday of each designated month\, unless otherwise noted. Book Club members will receive the newest book title via email two months prior to the book club date. You may join Book Club at any point during the year. Come when you can – there is no penalty for missing a session. \nBook Club 2026 “Library Card” Annual Fee*: $25 General | $20 Museum Members | $15 Students \nYour Book Club Library Card entitles you to in-person and virtual Book Club sessions\, as well as discounted admission to the accompanying Book Talks lecture series held on Thursdays at the Museum.
URL:https://wdsmuseum.org/event/wds-book-club-the-great-contradiction-the-tragic-side-of-the-american-founding/
LOCATION:WDS Museum\, 211 Main Street\, Wethersfield\, CT\, 06109
CATEGORIES:Learning Series,Members,Book Club
ATTACH;FMTTYPE=image/png:https://wdsmuseum.org/wp-content/uploads/2026/02/Book-Club-Website-Banner.png
END:VEVENT
BEGIN:VEVENT
DTSTART;TZID=America/New_York:20260811T180000
DTEND;TZID=America/New_York:20260811T200000
DTSTAMP:20260423T180744
CREATED:20260209T123324Z
LAST-MODIFIED:20260217T023035Z
UID:10000099-1786471200-1786478400@wdsmuseum.org
SUMMARY:WDS BOOK CLUB | The Painter's Fire: A Forgotten History of the Artists Who Championed the American Revolution
DESCRIPTION:Calling all bookworms\, history buffs\, preservationists and culture mavens! Join us for our NEW year-long book club\, accompanied by a lecture series with acclaimed authors.\nThis month we’re reading:  \nThe Painter’s Fire: A Forgotten History of the Artists Who Championed the American Revolution\nBy Zara Anishanslin \n(Available on Audible) \nTuesday\, August 11\, 6 pm | In Person and Virtual \nModerated by TR Revella-Hamilton\, WDS Director of Preservation & Collections \nMeet fellow history enthusiasts in person as we discuss thought-provoking books by acclaimed authors. Our carefully curated monthly selections delve into the rich tapestry of American and European history\, featuring compelling works about revolutionary figures\, historic preservation\, decorative arts\, and stories that shaped our cultural landscape. Whether you’re a seasoned historian\, preservation enthusiast\, or simply curious about the stories behind our built heritage\, there’s a place for you in our community of learners. \nJOIN BOOK CLUB \n\nHow it Works: Book Club meets bimonthly at the Museum and via Zoom on the second Tuesday of each designated month\, unless otherwise noted. Book Club members will receive the newest book title via email two months prior to the book club date. You may join Book Club at any point during the year. Come when you can – there is no penalty for missing a session. \nBook Club 2026 “Library Card” Annual Fee*: $25 General | $20 Museum Members | $15 Students \nYour Book Club Library Card entitles you to in-person and virtual Book Club sessions\, as well as discounted admission to the accompanying Book Talks lecture series held on Thursdays at the Museum.
URL:https://wdsmuseum.org/event/wds-book-club-spiritualisms-place-reformers-seekers-and-seances-in-lily-dale-2/
LOCATION:WDS Museum\, 211 Main Street\, Wethersfield\, CT\, 06109
CATEGORIES:Learning Series,Members,Book Club
ATTACH;FMTTYPE=image/png:https://wdsmuseum.org/wp-content/uploads/2026/02/Book-Club-Website-Banner.png
END:VEVENT
BEGIN:VEVENT
DTSTART;TZID=America/New_York:20261013T180000
DTEND;TZID=America/New_York:20261013T200000
DTSTAMP:20260423T180744
CREATED:20260209T122050Z
LAST-MODIFIED:20260217T022044Z
UID:10000098-1791914400-1791921600@wdsmuseum.org
SUMMARY:WDS BOOK CLUB | Spiritualism's Place: Reformers\, Seekers\, and Séances in Lily Dale
DESCRIPTION:Calling all bookworms\, history buffs\, preservationists and culture mavens! Join us for our NEW year-long book club\, accompanied by a lecture series with acclaimed authors.\nThis month we’re reading:  \nSpiritualism’s Place: Reformers\, Seekers\, and Séances in Lily Dale\nBy Averill Earls \nTuesday\, October 13\, 6 pm | In Person and Virtual \nModerated by TR Revella-Hamilton\, WDS Director of Preservation & Collections \nMeet fellow history enthusiasts in person as we discuss thought-provoking books by acclaimed authors. Our carefully curated monthly selections delve into the rich tapestry of American and European history\, featuring compelling works about revolutionary figures\, historic preservation\, decorative arts\, and stories that shaped our cultural landscape. Whether you’re a seasoned historian\, preservation enthusiast\, or simply curious about the stories behind our built heritage\, there’s a place for you in our community of learners. \nJOIN BOOK CLUB \n\nHow it Works: Book Club meets bimonthly at the Museum and via Zoom on the second Tuesday of each designated month\, unless otherwise noted. Book Club members will receive the newest book title via email two months prior to the book club date. You may join Book Club at any point during the year. Come when you can – there is no penalty for missing a session. \nBook Club 2026 “Library Card” Annual Fee*: $25 General | $20 Museum Members | $15 Students \nYour Book Club Library Card entitles you to in-person and virtual Book Club sessions\, as well as discounted admission to the accompanying Book Talks lecture series held on Thursdays at the Museum.
URL:https://wdsmuseum.org/event/wds-book-club-spiritualisms-place-reformers-seekers-and-seances-in-lily-dale/
LOCATION:WDS Museum\, 211 Main Street\, Wethersfield\, CT\, 06109
CATEGORIES:Learning Series,Members,Book Club
ATTACH;FMTTYPE=image/png:https://wdsmuseum.org/wp-content/uploads/2026/02/Book-Club-Website-Banner.png
END:VEVENT
BEGIN:VEVENT
DTSTART;TZID=America/New_York:20261208T180000
DTEND;TZID=America/New_York:20261208T200000
DTSTAMP:20260423T180744
CREATED:20260209T124146Z
LAST-MODIFIED:20260217T021615Z
UID:10000100-1796752800-1796760000@wdsmuseum.org
SUMMARY:WDS BOOK CLUB | Rebels at Sea: Privateering in the American Revolution
DESCRIPTION:This month we’re reading:  \nRebels at Sea: Privateering in the American Revolution\nBy Eric Jay Dolin \n(Available on Audible) \nTuesday\, December 8\, 6 pm | In Person and Virtual \nModerated by TR Revella-Hamilton\, WDS Director of Preservation & Collections \nMeet fellow history enthusiasts in person as we discuss thought-provoking books by acclaimed authors. Our carefully curated monthly selections delve into the rich tapestry of American and European history\, featuring compelling works about revolutionary figures\, historic preservation\, decorative arts\, and stories that shaped our cultural landscape. Whether you’re a seasoned historian\, preservation enthusiast\, or simply curious about the stories behind our built heritage\, there’s a place for you in our community of learners. \nJOIN BOOK CLUB \n\nHow it Works: Book Club meets bimonthly at the Museum and via Zoom on the second Tuesday of each designated month\, unless otherwise noted. Book Club members will receive the newest book title via email two months prior to the book club date. You may join Book Club at any point during the year. Come when you can – there is no penalty for missing a session. \nBook Club 2026 “Library Card” Annual Fee*: $25 General | $20 Museum Members | $15 Students \nYour Book Club Library Card entitles you to in-person and virtual Book Club sessions\, as well as discounted admission to the accompanying Book Talks lecture series held on Thursdays at the Museum.
URL:https://wdsmuseum.org/event/wds-book-club-rebels-at-sea-privateering-in-the-american-revolution/
LOCATION:WDS Museum\, 211 Main Street\, Wethersfield\, CT\, 06109
CATEGORIES:Learning Series,Book Club
ATTACH;FMTTYPE=image/png:https://wdsmuseum.org/wp-content/uploads/2026/02/Book-Club-Website-Banner.png
END:VEVENT
END:VCALENDAR