BEGIN:VCALENDAR
VERSION:2.0
PRODID:-//Webb Deane Stevens Museum - ECPv6.15.20//NONSGML v1.0//EN
CALSCALE:GREGORIAN
METHOD:PUBLISH
X-ORIGINAL-URL:https://wdsmuseum.org
X-WR-CALDESC:Events for Webb Deane Stevens Museum
REFRESH-INTERVAL;VALUE=DURATION:PT1H
X-Robots-Tag:noindex
X-PUBLISHED-TTL:PT1H
BEGIN:VTIMEZONE
TZID:America/New_York
BEGIN:DAYLIGHT
TZOFFSETFROM:-0500
TZOFFSETTO:-0400
TZNAME:EDT
DTSTART:20240310T070000
END:DAYLIGHT
BEGIN:STANDARD
TZOFFSETFROM:-0400
TZOFFSETTO:-0500
TZNAME:EST
DTSTART:20241103T060000
END:STANDARD
BEGIN:DAYLIGHT
TZOFFSETFROM:-0500
TZOFFSETTO:-0400
TZNAME:EDT
DTSTART:20250309T070000
END:DAYLIGHT
BEGIN:STANDARD
TZOFFSETFROM:-0400
TZOFFSETTO:-0500
TZNAME:EST
DTSTART:20251102T060000
END:STANDARD
BEGIN:DAYLIGHT
TZOFFSETFROM:-0500
TZOFFSETTO:-0400
TZNAME:EDT
DTSTART:20260308T070000
END:DAYLIGHT
BEGIN:STANDARD
TZOFFSETFROM:-0400
TZOFFSETTO:-0500
TZNAME:EST
DTSTART:20261101T060000
END:STANDARD
END:VTIMEZONE
BEGIN:VEVENT
DTSTART;TZID=America/New_York:20251120T190000
DTEND;TZID=America/New_York:20251120T190000
DTSTAMP:20260423T184229
CREATED:20250831T195235Z
LAST-MODIFIED:20251112T015421Z
UID:10000075-1763665200-1763665200@wdsmuseum.org
SUMMARY:LECTURE | Coming Home: The Story of a Tulip and Sunflower Chest With Pat Kane
DESCRIPTION:Purchase Tickets \nRenowned decorative arts scholar Pat Kane reveals the remarkable story of Connecticut’s Wethersfield chest tradition in this specialized lecture. Explore the intersection of artistry\, craftsmanship\, and cultural identity through these colonial masterpieces that represent some of America’s finest early furniture making. Kane’s expertise illuminates how these functional objects reflect broader patterns of settlement\, trade\, and artistic expression in the Connecticut River Valley\, making them invaluable windows into colonial American life and\naesthetics. \nTickets: General Admission $15| Members $10 | Jenrette Society & Students $5 \nBio | Patricia E. Kane\, Friends of American Arts Curator of American Decorative Arts at the Yale University Art Gallery\, has been at Yale since receiving her M.A. from the University of Delaware\, Winterthur Program in Early American Culture in 1968. The topic of her Master’s thesis was the seventeenth-century joined furniture of Hartford County.  She received her Ph.D. in art history from Yale in 1987. She oversees collections of American decorative arts and design that range from the seventeenth century to the present.  Since 2002 she has directed the Rhode Island Furniture Archive at the Yale University Art Gallery that documents furniture making in Rhode Island from 1650 to 1830. The results of this research are disseminated through a website\, https://americandecorativearts.yale.edu/ \, hosted by Jstor\, and Art and Industry in Early America: Rhode Island Furniture 1650–1830\, a publication for a 2016 exhibition at the Art Gallery. In addition to ongoing research on early Rhode Island furniture\, she has collaborated with scientists at Yale to identify the different species of mahogany used in early American furniture. \n 
URL:https://wdsmuseum.org/event/lecture-masterworks-in-wood-understanding-wethersfields-furniture-legacy-with-pat-kane/
LOCATION:CT
CATEGORIES:Learning Series,Lecture,Antiques & Collectibles,Preservation
ATTACH;FMTTYPE=image/png:https://wdsmuseum.org/wp-content/uploads/2025/08/Screenshot-2025-08-31-at-18-45-15-Connoisseur-of-American-craftmanship-Its-Your-Yale.png
END:VEVENT
END:VCALENDAR