BEGIN:VCALENDAR
VERSION:2.0
PRODID:-//Webb Deane Stevens Museum - ECPv6.15.20//NONSGML v1.0//EN
CALSCALE:GREGORIAN
METHOD:PUBLISH
X-WR-CALNAME:Webb Deane Stevens Museum
X-ORIGINAL-URL:https://wdsmuseum.org
X-WR-CALDESC:Events for Webb Deane Stevens Museum
REFRESH-INTERVAL;VALUE=DURATION:PT1H
X-Robots-Tag:noindex
X-PUBLISHED-TTL:PT1H
BEGIN:VTIMEZONE
TZID:America/New_York
BEGIN:DAYLIGHT
TZOFFSETFROM:-0500
TZOFFSETTO:-0400
TZNAME:EDT
DTSTART:20240310T070000
END:DAYLIGHT
BEGIN:STANDARD
TZOFFSETFROM:-0400
TZOFFSETTO:-0500
TZNAME:EST
DTSTART:20241103T060000
END:STANDARD
BEGIN:DAYLIGHT
TZOFFSETFROM:-0500
TZOFFSETTO:-0400
TZNAME:EDT
DTSTART:20250309T070000
END:DAYLIGHT
BEGIN:STANDARD
TZOFFSETFROM:-0400
TZOFFSETTO:-0500
TZNAME:EST
DTSTART:20251102T060000
END:STANDARD
BEGIN:DAYLIGHT
TZOFFSETFROM:-0500
TZOFFSETTO:-0400
TZNAME:EDT
DTSTART:20260308T070000
END:DAYLIGHT
BEGIN:STANDARD
TZOFFSETFROM:-0400
TZOFFSETTO:-0500
TZNAME:EST
DTSTART:20261101T060000
END:STANDARD
END:VTIMEZONE
BEGIN:VEVENT
DTSTART;TZID=America/New_York:20250814T190000
DTEND;TZID=America/New_York:20250814T203000
DTSTAMP:20260424T115500
CREATED:20250714T154057Z
LAST-MODIFIED:20250813T172009Z
UID:10000067-1755198000-1755203400@wdsmuseum.org
SUMMARY:LECTURE | Out of the Attic: Inventing Antiques in Twentieth-Century New England
DESCRIPTION:LECTURE \nWhat transforms a discarded object into a treasured antique? Join acclaimed historian and independent scholar Briann Greenfield as she reveals how Connecticut and New England didn’t just collect antiques—they invented the very idea of what makes something “antique.” Through a century of transformation\, she traces how everyday objects evolved from dusty attic finds to coveted museum pieces. Greenfield uncovers the fascinating stories of collectors\, dealers\, and curators who shaped American material culture\, showing how personal passion and cultural values created the antique market we know today. \n*This event is available in person and via Zoom. \nIn-person at 211 Main Street\, Wethersfield\, CT or on Zoom. Zoom details will be shared via email in advance of the lecture. \nTickets: $15 | $10 Members \n 
URL:https://wdsmuseum.org/event/out-of-the-attic-inventing-antiques-in-twentieth-century-new-england/
LOCATION:WDS Museum\, 211 Main Street\, Wethersfield\, CT\, 06109
CATEGORIES:Lecture,Members,Antiques & Collectibles
ATTACH;FMTTYPE=image/jpeg:https://wdsmuseum.org/wp-content/uploads/2025/07/Briann-Greenfield-Headshot.jpg
END:VEVENT
END:VCALENDAR