BEGIN:VCALENDAR
VERSION:2.0
PRODID:-//Webb Deane Stevens Museum - ECPv6.15.20//NONSGML v1.0//EN
CALSCALE:GREGORIAN
METHOD:PUBLISH
X-WR-CALNAME:Webb Deane Stevens Museum
X-ORIGINAL-URL:https://wdsmuseum.org
X-WR-CALDESC:Events for Webb Deane Stevens Museum
REFRESH-INTERVAL;VALUE=DURATION:PT1H
X-Robots-Tag:noindex
X-PUBLISHED-TTL:PT1H
BEGIN:VTIMEZONE
TZID:America/New_York
BEGIN:DAYLIGHT
TZOFFSETFROM:-0500
TZOFFSETTO:-0400
TZNAME:EDT
DTSTART:20230312T070000
END:DAYLIGHT
BEGIN:STANDARD
TZOFFSETFROM:-0400
TZOFFSETTO:-0500
TZNAME:EST
DTSTART:20231105T060000
END:STANDARD
BEGIN:DAYLIGHT
TZOFFSETFROM:-0500
TZOFFSETTO:-0400
TZNAME:EDT
DTSTART:20240310T070000
END:DAYLIGHT
BEGIN:STANDARD
TZOFFSETFROM:-0400
TZOFFSETTO:-0500
TZNAME:EST
DTSTART:20241103T060000
END:STANDARD
BEGIN:DAYLIGHT
TZOFFSETFROM:-0500
TZOFFSETTO:-0400
TZNAME:EDT
DTSTART:20250309T070000
END:DAYLIGHT
BEGIN:STANDARD
TZOFFSETFROM:-0400
TZOFFSETTO:-0500
TZNAME:EST
DTSTART:20251102T060000
END:STANDARD
END:VTIMEZONE
BEGIN:VEVENT
DTSTART;TZID=America/New_York:20240413T090000
DTEND;TZID=America/New_York:20240414T130000
DTSTAMP:20260425T192753
CREATED:20240227T163852Z
LAST-MODIFIED:20240412T150232Z
UID:10000042-1712998800-1713099600@wdsmuseum.org
SUMMARY:Webb Barn Sale
DESCRIPTION:Rain or Shine! \nSale Dates: \nSaturday\, April 13\, 9 am-3 pm (The Sabores Mexicanos Food Truck will be on site for lunch purchases\, 12-3 pm)\nSunday\, April 14\, 9 am-1 pm (Indulge by Palazzo‘s Indulge truck will be on site for gourmet mini donut and coffee purchases\, 8:45-11 am) \nAdmission: \n$5 for adults; youth under age 18 free. Admission is payable at the door. \nThis biennial sale has historically been the biggest fundraiser in support of the Webb Deane Stevens Museum by The National Society of The Colonial Dames of America in The State of Connecticut (NSCDA-CT). We are hoping for a great turnout and successful sale again this year! \nCome shop for tableware\, silver\, art\, kitchenware\, toys\, collectibles\, linens\, garden items\, holiday decor\, jewelry\, rugs\, small furniture\, and more! \nPayments: \nAccepted payments: cash\, checks\, and credit cards. \nParking: \nFree parking is available behind the Webb Barn to the rear of the Museum campus\, on the street\, in the Keeney Memorial Cultural Center lot at 200 Main\, Street\, or in the Wethersfield Volunteer Fire Department lot located at 171 Main Street. \n 
URL:https://wdsmuseum.org/event/webb-barn-sale/
LOCATION:WDS Museum\, 211 Main Street\, Wethersfield\, CT\, 06109
CATEGORIES:Members,Antiques & Collectibles
ATTACH;FMTTYPE=image/png:https://wdsmuseum.org/wp-content/uploads/2024/02/barnsale-website.png
ORGANIZER;CN="WDS Museum":MAILTO:info@wdsmuseum.org
END:VEVENT
END:VCALENDAR